| Back to the "Multiple platform build/check report" | A B [C] D E F G H I J K L M N O P Q R S T U V W X Y Z |
| Package 57/251 | Hostname | OS / Arch | BUILD | CHECK | BUILD BIN | ||||
| cosmoGUI 1.5.0 Oliver Bembom
| lamb1 | Linux (SUSE 10.1) / x86_64 | OK | OK | |||||
| wilson2 | Linux (openSUSE 10.3) / x86_64 | OK | OK | ||||||
| wellington | Linux (openSUSE 10.3) / i686 | OK | OK | ||||||
| liverpool | Windows Server 2003 R2 (32-bit) / x64 | [ OK ] | OK | OK | |||||
| lemming | Windows Server 2003 (32-bit) / x64 | OK | OK | OK |
| Package: cosmoGUI |
| Version: 1.5.0 |
| Command: E:\biocbld\bbs-2.2-bioc\R\bin\R.exe CMD build cosmoGUI |
| StartedAt: 2007-12-11 03:43:11 -0700 (Tue, 11 Dec 2007) |
| EndedAt: 2007-12-11 03:43:14 -0700 (Tue, 11 Dec 2007) |
| EllapsedTime: 2.8 seconds |
| RetCode: 0 |
| Status: OK |
| PackageFile: cosmoGUI_1.5.0.tar.gz |
| PackageFileSize: 10.87 KiB |
* checking for file 'cosmoGUI/DESCRIPTION' ... OK * preparing 'cosmoGUI': * checking DESCRIPTION meta-information ... OK * removing junk files * checking for LF line-endings in source and make files * checking for empty or unneeded directories * building 'cosmoGUI_1.5.0.tar.gz'