| arrayQuality 1.15.0 Agnes Paquet
 
 | Snapshot Date: 2007-12-11 00:09:07 -0800 (Tue, 11 Dec 2007) |  | URL: https://hedgehog.fhcrc.org/bioconductor/trunk/madman/Rpacks/arrayQuality |  | Last Changed Rev: 27716 / Revision: 29143 |  | Last Changed Date: 2007-10-02 18:16:39 -0700 (Tue, 02 Oct 2007) | 
 | lamb1 | Linux (SUSE 10.1) / x86_64 | OK | WARNINGS |  | 
| wilson2 | Linux (openSUSE 10.3) / x86_64 | OK | WARNINGS |  | 
| wellington | Linux (openSUSE 10.3) / i686 | OK | WARNINGS |  | 
| liverpool | Windows Server 2003 R2 (32-bit) / x64 | OK | WARNINGS | OK | 
| lemming | Windows Server 2003 (32-bit) / x64 | [ OK ] | WARNINGS | OK | 
* checking for file 'arrayQuality/DESCRIPTION' ... OK
* preparing 'arrayQuality':
* checking DESCRIPTION meta-information ... OK
* checking whether 'INDEX' is up-to-date ... NO
* use '--force' to overwrite the existing 'INDEX'
* removing junk files
* checking for LF line-endings in source and make files
* checking for empty or unneeded directories
* building 'arrayQuality_1.15.0.tar.gz'