| Back to the "Multiple platform build/check report" | [A] B C D E F G H I J K L M N O P Q R S T U V W X Y Z |
| Package 10/251 | Hostname | OS / Arch | BUILD | CHECK | BUILD BIN | ||||
| affyio 1.7.6 Benjamin Milo Bolstad
| lamb1 | Linux (SUSE 10.1) / x86_64 | OK | OK | |||||
| wilson2 | Linux (openSUSE 10.3) / x86_64 | OK | OK | ||||||
| wellington | Linux (openSUSE 10.3) / i686 | OK | OK | ||||||
| liverpool | Windows Server 2003 R2 (32-bit) / x64 | OK | OK | OK | |||||
| lemming | Windows Server 2003 (32-bit) / x64 | [ OK ] | OK | OK |
| Package: affyio |
| Version: 1.7.6 |
| Command: D:\biocbld\bbs-2.2-bioc\R\bin\R.exe CMD build affyio |
| StartedAt: 2007-12-11 03:07:43 -0700 (Tue, 11 Dec 2007) |
| EndedAt: 2007-12-11 03:07:46 -0700 (Tue, 11 Dec 2007) |
| EllapsedTime: 3.2 seconds |
| RetCode: 0 |
| Status: OK |
| PackageFile: affyio_1.7.6.tar.gz |
| PackageFileSize: 95.3 KiB |
* checking for file 'affyio/DESCRIPTION' ... OK * preparing 'affyio': * checking DESCRIPTION meta-information ... OK * cleaning src * removing junk files * checking for LF line-endings in source and make files * checking for empty or unneeded directories * building 'affyio_1.7.6.tar.gz'