SBMLR 1.33.0 Tomas Radivoyevitch
| Snapshot Date: 2007-12-11 00:09:07 -0800 (Tue, 11 Dec 2007) | | URL: https://hedgehog.fhcrc.org/bioconductor/trunk/madman/Rpacks/SBMLR | | Last Changed Rev: 28474 / Revision: 29143 | | Last Changed Date: 2007-11-05 11:51:11 -0800 (Mon, 05 Nov 2007) |
| lamb1 | Linux (SUSE 10.1) / x86_64 | OK | ERROR | |
| wilson2 | Linux (openSUSE 10.3) / x86_64 | OK | ERROR | |
| wellington | Linux (openSUSE 10.3) / i686 | OK | ERROR | |
| liverpool | Windows Server 2003 R2 (32-bit) / x64 | OK | ERROR | OK |
| lemming | Windows Server 2003 (32-bit) / x64 | [ OK ] | ERROR | OK |