| RPostgreSQL 0.0.0 M. Dalphin
 
 | Snapshot Date: 2007-12-11 00:09:07 -0800 (Tue, 11 Dec 2007) |  | URL: https://hedgehog.fhcrc.org/bioconductor/trunk/madman/Rpacks/RPostgreSQL |  | Last Changed Rev: 21881 / Revision: 29143 |  | Last Changed Date: 2007-01-08 18:28:57 -0800 (Mon, 08 Jan 2007) | 
 | lamb1 | Linux (SUSE 10.1) / x86_64 | OK | WARNINGS |  | 
| wilson2 | Linux (openSUSE 10.3) / x86_64 | OK | WARNINGS |  | 
| wellington | Linux (openSUSE 10.3) / i686 | OK | WARNINGS |  | 
| liverpool | Windows Server 2003 R2 (32-bit) / x64 | OK | WARNINGS | OK | 
| lemming | Windows Server 2003 (32-bit) / x64 | OK | WARNINGS | [ OK ] | 
installing R.css in D:/biocbld/bbs-2.2-bioc/meat/RPostgreSQL.buildbin-libdir
Using auto-selected zip options ''
---------- Making package RPostgreSQL ------------
  adding build stamp to DESCRIPTION
  no R files in this package
  installing inst files
  no man files in this package
  installing indices
  installing help
 >>> Building/Updating help pages for package 'RPostgreSQL'
     Formats: text html latex example chm 
Microsoft HTML Help Compiler 4.74.8702
Compiling d:\biocbld\bbs-2.2-bioc\meat\R.INSTALL.1884\RPostgreSQL\chm\RPostgreSQL.chm
Compile time: 0 minutes, 2 seconds
1	Topic
0	Local links
0	Internet links
1	Graphic
Created d:\biocbld\bbs-2.2-bioc\meat\R.INSTALL.1884\RPostgreSQL\chm\RPostgreSQL.chm, 14,520 bytes
Compression increased file by 9,634 bytes.
  adding MD5 sums
packaged installation of package 'RPostgreSQL' as RPostgreSQL_0.0.0.zip
* DONE (RPostgreSQL)