| MVCClass 1.13.0 Elizabeth Whalen
 
 | Snapshot Date: 2007-12-11 00:09:07 -0800 (Tue, 11 Dec 2007) |  | URL: https://hedgehog.fhcrc.org/bioconductor/trunk/madman/Rpacks/MVCClass |  | Last Changed Rev: 27716 / Revision: 29143 |  | Last Changed Date: 2007-10-02 18:16:39 -0700 (Tue, 02 Oct 2007) | 
 | lamb1 | Linux (SUSE 10.1) / x86_64 | OK | OK |  | 
| wilson2 | Linux (openSUSE 10.3) / x86_64 | OK | OK |  | 
| wellington | Linux (openSUSE 10.3) / i686 | OK | OK |  | 
| liverpool | Windows Server 2003 R2 (32-bit) / x64 | OK | OK | OK | 
| lemming | Windows Server 2003 (32-bit) / x64 | OK | OK | [ OK ] | 
installing R.css in D:/biocbld/bbs-2.2-bioc/meat/MVCClass.buildbin-libdir
Using auto-selected zip options ' MVCClass-HELP=ziponly'
---------- Making package MVCClass ------------
  adding build stamp to DESCRIPTION
  installing NAMESPACE file and metadata
  installing R files
  installing inst files
  installing man source files
  installing indices
  installing help
Note: removing empty section \examples
Note: removing empty section \examples
Note: removing empty section \examples
Note: removing empty section \examples
Note: removing empty section \examples
Note: removing empty section \examples
Note: removing empty section \examples
Note: removing empty section \examples
Note: removing empty section \examples
Note: removing empty section \examples
Note: removing empty section \examples
Note: removing empty section \examples
Note: removing empty section \examples
Note: removing empty section \examples
Note: removing empty section \examples
Note: removing empty section \examples
Note: removing empty section \examples
Note: removing empty section \examples
Note: removing empty section \examples
Note: removing empty section \examples
Note: removing empty section \examples
Note: removing empty section \examples
Note: removing empty section \examples
Note: removing empty section \examples
Note: removing empty section \examples
Note: removing empty section \examples
Note: removing empty section \examples
Note: removing empty section \examples
Note: removing empty section \examples
Note: removing empty section \examples
Note: removing empty section \examples
Note: removing empty section \examples
Note: removing empty section \examples
Note: removing empty section \examples
Note: removing empty section \examples
Note: removing empty section \examples
Note: removing empty section \examples
Note: removing empty section \examples
Note: removing empty section \examples
Note: removing empty section \examples
Note: removing empty section \examples
Note: removing empty section \examples
Note: removing empty section \examples
Note: removing empty section \examples
Note: removing empty section \examples
Note: removing empty section \examples
 >>> Building/Updating help pages for package 'MVCClass'
     Formats: text html latex example chm 
  MVC-class                         text    html    latex           chm
  dfModel-class                     text    html    latex           chm
  gAddChildMessage-class            text    html    latex           chm
  gAddDataMessage-class             text    html    latex           chm
  gAddMessage-class                 text    html    latex           chm
  gAddViewMessage-class             text    html    latex           chm
  gAskAncestorMessage-class         text    html    latex           chm
  gEventFun-class                   text    html    latex           chm
  gMessage-class                    text    html    latex           chm
  gModel-class                      text    html    latex           chm
  gModifyMessage-class              text    html    latex           chm
  gSendChildMessage-class           text    html    latex           chm
  gSendParentMessage-class          text    html    latex           chm
  gUpdateDataMessage-class          text    html    latex           chm
  gUpdateMessage-class              text    html    latex           chm
  gUpdateViewMessage-class          text    html    latex           chm
  genView-class                     text    html    latex           chm
  linkedModelMVC-class              text    html    latex           chm
  plotView-class                    text    html    latex           chm
  qqPlotView-class                  text    html    latex           chm
  sPlotView-class                   text    html    latex           chm
  singleModelMVC-class              text    html    latex           chm
  spreadView-class                  text    html    latex           chm
  zipping help files
Microsoft HTML Help Compiler 4.74.8702
Compiling d:\biocbld\bbs-2.2-bioc\meat\R.INSTALL.3872\MVCClass\chm\MVCClass.chm
Compile time: 0 minutes, 0 seconds
24	Topics
245	Local links
0	Internet links
1	Graphic
Created d:\biocbld\bbs-2.2-bioc\meat\R.INSTALL.3872\MVCClass\chm\MVCClass.chm, 40,131 bytes
Compression decreased file by 90,497 bytes.
  adding MD5 sums
packaged installation of package 'MVCClass' as MVCClass_1.13.0.zip
* DONE (MVCClass)