DynDoc 1.17.0 Biocore Team c/o BioC user list
| Snapshot Date: 2007-12-11 00:09:07 -0800 (Tue, 11 Dec 2007) | | URL: https://hedgehog.fhcrc.org/bioconductor/trunk/madman/Rpacks/DynDoc | | Last Changed Rev: 28000 / Revision: 29143 | | Last Changed Date: 2007-10-15 11:28:10 -0700 (Mon, 15 Oct 2007) |
| lamb1 | Linux (SUSE 10.1) / x86_64 | OK | OK | |
| wilson2 | Linux (openSUSE 10.3) / x86_64 | OK | OK | |
| wellington | Linux (openSUSE 10.3) / i686 | OK | OK | |
| liverpool | Windows Server 2003 R2 (32-bit) / x64 | OK | OK | OK |
| lemming | Windows Server 2003 (32-bit) / x64 | [ OK ] | OK | OK |