| Back to the "Multiple platform build/check report" | A B [C] D E F G H I J K L M N O P Q R S T U V W X Y Z |
| Package 51/251 | Hostname | OS / Arch | BUILD | CHECK | BUILD BIN | ||||
| CoCiteStats 1.11.0 R. Gentleman
| lamb1 | Linux (SUSE 10.1) / x86_64 | OK | OK | |||||
| wilson2 | Linux (openSUSE 10.3) / x86_64 | OK | OK | ||||||
| wellington | Linux (openSUSE 10.3) / i686 | OK | OK | ||||||
| liverpool | Windows Server 2003 R2 (32-bit) / x64 | OK | OK | OK | |||||
| lemming | Windows Server 2003 (32-bit) / x64 | [ OK ] | OK | OK |
| Package: CoCiteStats |
| Version: 1.11.0 |
| Command: D:\biocbld\bbs-2.2-bioc\R\bin\R.exe CMD build CoCiteStats |
| StartedAt: 2007-12-11 03:44:36 -0700 (Tue, 11 Dec 2007) |
| EndedAt: 2007-12-11 03:44:38 -0700 (Tue, 11 Dec 2007) |
| EllapsedTime: 2.8 seconds |
| RetCode: 0 |
| Status: OK |
| PackageFile: CoCiteStats_1.11.0.tar.gz |
| PackageFileSize: 5.251 KiB |
* checking for file 'CoCiteStats/DESCRIPTION' ... OK * preparing 'CoCiteStats': * checking DESCRIPTION meta-information ... OK * removing junk files * checking for LF line-endings in source and make files * checking for empty or unneeded directories * building 'CoCiteStats_1.11.0.tar.gz'