| Back to the "Multiple platform build/check report" | A [B] C D E F G H I J K L M N O P Q R S T U V W X Y Z |
| Package 28/251 | Hostname | OS / Arch | BUILD | CHECK | BUILD BIN | ||||
| BeadExplorer 1.5.0 Gareth Elvidge
| lamb1 | Linux (SUSE 10.1) / x86_64 | OK | OK | |||||
| wilson2 | Linux (openSUSE 10.3) / x86_64 | [ OK ] | OK | ||||||
| wellington | Linux (openSUSE 10.3) / i686 | OK | OK | ||||||
| liverpool | Windows Server 2003 R2 (32-bit) / x64 | OK | OK | OK | |||||
| lemming | Windows Server 2003 (32-bit) / x64 | OK | OK | OK |
| Package: BeadExplorer |
| Version: 1.5.0 |
| Command: /home/biocbuild/bbs-2.2-bioc/R/bin/R CMD build BeadExplorer |
| StartedAt: 2007-12-11 02:23:14 -0700 (Tue, 11 Dec 2007) |
| EndedAt: 2007-12-11 02:23:14 -0700 (Tue, 11 Dec 2007) |
| EllapsedTime: 0.5 seconds |
| RetCode: 0 |
| Status: OK |
| PackageFile: BeadExplorer_1.5.0.tar.gz |
| PackageFileSize: 2.273 MiB |
* checking for file 'BeadExplorer/DESCRIPTION' ... OK * preparing 'BeadExplorer': * checking DESCRIPTION meta-information ... OK * removing junk files * checking for LF line-endings in source and make files * checking for empty or unneeded directories * building 'BeadExplorer_1.5.0.tar.gz'