| ACME 1.5.0 Sean Davis
 
 | Snapshot Date: 2007-12-11 00:09:07 -0800 (Tue, 11 Dec 2007) |  | URL: https://hedgehog.fhcrc.org/bioconductor/trunk/madman/Rpacks/ACME |  | Last Changed Rev: 28557 / Revision: 29143 |  | Last Changed Date: 2007-11-07 23:00:31 -0800 (Wed, 07 Nov 2007) | 
 | lamb1 | Linux (SUSE 10.1) / x86_64 | OK | OK |  | 
| wilson2 | Linux (openSUSE 10.3) / x86_64 | OK | OK |  | 
| wellington | Linux (openSUSE 10.3) / i686 | OK | OK |  | 
| liverpool | Windows Server 2003 R2 (32-bit) / x64 | OK | [ OK ] | OK | 
| lemming | Windows Server 2003 (32-bit) / x64 | OK | OK | OK | 
* checking for working latex ... OK
* using log directory 'E:/biocbld/bbs-2.2-bioc/meat/ACME.Rcheck'
* using R version 2.7.0 Under development (unstable) (2007-11-14 r43455)
* checking for file 'ACME/DESCRIPTION' ... OK
* this is package 'ACME' version '1.5.0'
* checking package name space information ... OK
* checking package dependencies ... OK
* checking if this is a source package ... OK
* checking whether package 'ACME' can be installed ... OK
* checking package directory ... OK
* checking for portable file names ... OK
* checking DESCRIPTION meta-information ... OK
* checking top-level files ... OK
* checking index information ... OK
* checking package subdirectories ... OK
* checking R files for non-ASCII characters ... OK
* checking R files for syntax errors ... OK
* checking whether the package can be loaded ... OK
* checking whether the package can be loaded with stated dependencies ... OK
* checking whether the name space can be loaded with stated dependencies ... OK
* checking for unstated dependencies in R code ... OK
* checking S3 generic/method consistency ... OK
* checking replacement functions ... OK
* checking foreign function calls ... OK
* checking R code for possible problems ... NOTE
findClosestGene: no visible binding for '<<-' assignment to 'refflat'
findClosestGene: no visible binding for global variable 'refflat'
* checking Rd files ... OK
* checking Rd cross-references ... OK
* checking for missing documentation entries ... OK
* checking for code/documentation mismatches ... OK
* checking Rd \usage sections ... OK
* checking data for non-ASCII characters ... OK
* checking line endings in C/C++/Fortran sources/headers ... OK
* checking line endings in Makefiles ... OK
* checking for portable use of $BLAS_LIBS ... OK
* creating ACME-Ex.R ... OK
* checking examples ... OK
* checking package vignettes in 'inst/doc' ... OK
* creating ACME-manual.tex ... OK
* checking ACME-manual.tex ... OK
 
installing R.css in E:/biocbld/bbs-2.2-bioc/meat/ACME.Rcheck
---------- Making package ACME ------------
  adding build stamp to DESCRIPTION
  installing NAMESPACE file and metadata
  making DLL ...
making windowChisq.d from windowChisq.c
gcc-sjlj  -std=gnu99  -Ie:/biocbld/bbs-2.2-bioc/R/include     -O3 -Wall  -c windowChisq.c -o windowChisq.o
windowChisq.c: In function 'windowChisq':
windowChisq.c:58: warning: suggest parentheses around comparison in operand of &
windowChisq.c:63: warning: suggest parentheses around comparison in operand of &
windowChisq.c:21: warning: unused variable 'xa'
windowChisq.c: At top level:
windowChisq.c:86: warning: initialization from incompatible pointer type
windres --preprocessor="gcc-sjlj -E -xc -DRC_INVOKED" -I e:/biocbld/bbs-2.2-bioc/R/include  -i ACME_res.rc -o ACME_res.o
gcc-sjlj  -std=gnu99  -shared -s  -o ACME.dll ACME.def windowChisq.o ACME_res.o  -Le:/biocbld/bbs-2.2-bioc/R/bin    -lR
  ... DLL made
  installing DLL
  installing R files
  installing inst files
  installing data files
  installing man source files
  installing indices
  not zipping data
  installing help
 >>> Building/Updating help pages for package 'ACME'
     Formats: text html latex example chm 
  aGFF-class                        text    html    latex   example chm
  aGFFCalc-class                    text    html    latex   example chm
  do.aGFF.calc                      text    html    latex   example chm
  example.agff                      text    html    latex   example chm
  findClosestGene                   text    html    latex   example chm
  findRegions                       text    html    latex   example chm
  getRefflat                        text    html    latex   example chm
  read.resultsGFF                   text    html    latex   example chm
  write.sgr                         text    html    latex   example chm
Microsoft HTML Help Compiler 4.74.8702
Compiling e:\biocbld\bbs-2.2-bioc\meat\ACME.Rcheck\00_pkg_src\ACME\chm\ACME.chm
Compile time: 0 minutes, 0 seconds
10	Topics
33	Local links
0	Internet links
1	Graphic
Created e:\biocbld\bbs-2.2-bioc\meat\ACME.Rcheck\00_pkg_src\ACME\chm\ACME.chm, 26,473 bytes
Compression decreased file by 4,362 bytes.
  adding MD5 sums
* DONE (ACME)