NOISeq 2.6.0 Sonia Tarazona
 | Snapshot Date: 2014-10-07 17:20:37 -0700 (Tue, 07 Oct 2014) |  | URL: https://hedgehog.fhcrc.org/bioconductor/branches/RELEASE_2_14/madman/Rpacks/NOISeq |  | Last Changed Rev: 88838 / Revision: 95116 |  | Last Changed Date: 2014-04-11 14:07:21 -0700 (Fri, 11 Apr 2014) |  
  | zin2  | Linux (Ubuntu 12.04.4 LTS) / x86_64  |  OK  |  OK  |  OK  |  | 
| moscato2  | Windows Server 2008 R2 Enterprise SP1 (64-bit) / x64  |  OK  |  OK  |  OK  |  OK  | 
| petty  | Mac OS X Snow Leopard (10.6.8) / x86_64  | [ OK ] |  OK  |  OK  |  OK  | 
| morelia  | Mac OS X Mavericks (10.9.5) / x86_64  |  OK  |  OK  |  OK  |  OK  | 
##############################################################################
##############################################################################
###
### Running command:
###
###   /Library/Frameworks/R.framework/Versions/Current/Resources/bin/R CMD INSTALL NOISeq
###
##############################################################################
##############################################################################
* installing to library ‘/Library/Frameworks/R.framework/Versions/3.1/Resources/library’
* installing *source* package ‘NOISeq’ ...
** R
** data
** inst
** preparing package for lazy loading
** help
*** installing help indices
** building package indices
** installing vignettes
   ‘NOISeq.Rnw’ using ‘UTF-8’ 
** testing if installed package can be loaded
* DONE (NOISeq)