| qpgraph 1.20.2 Robert Castelo
 
 | Snapshot Date: 2014-10-07 17:20:37 -0700 (Tue, 07 Oct 2014) |  | URL: https://hedgehog.fhcrc.org/bioconductor/branches/RELEASE_2_14/madman/Rpacks/qpgraph |  | Last Changed Rev: 93135 / Revision: 95116 |  | Last Changed Date: 2014-08-01 20:41:40 -0700 (Fri, 01 Aug 2014) | 
 | zin2 | Linux (Ubuntu 12.04.4 LTS) / x86_64 | OK | OK | OK |  | 
| moscato2 | Windows Server 2008 R2 Enterprise SP1 (64-bit) / x64 | OK | OK | OK | [ OK ] | 
| petty | Mac OS X Snow Leopard (10.6.8) / x86_64 | OK | OK | OK | OK | 
| morelia | Mac OS X Mavericks (10.9.5) / x86_64 | OK | OK | OK | OK | 
##############################################################################
##############################################################################
###
### Running command:
###
###   cd qpgraph.buildbin-libdir/qpgraph && zip -r ../../qpgraph_1.20.2.zip . & cd ../..
###
##############################################################################
##############################################################################
  adding: CITATION (188 bytes security) (deflated 65%)
  adding: data/ (256 bytes security) (stored 0%)
  adding: data/datalist (188 bytes security) (deflated 34%)
  adding: data/Rdata.rdb (188 bytes security) (deflated 0%)
  adding: data/Rdata.rds (188 bytes security) (stored 0%)
  adding: data/Rdata.rdx (188 bytes security) (stored 0%)
  adding: DESCRIPTION (188 bytes security) (deflated 44%)
  adding: doc/ (256 bytes security) (stored 0%)
  adding: doc/BasicUsersGuide.pdf (188 bytes security) (deflated 8%)
  adding: doc/index.html (188 bytes security) (deflated 66%)
  adding: doc/qpgraphSimulate.pdf (188 bytes security) (deflated 21%)
  adding: doc/qpgraphSimulate.R (188 bytes security) (deflated 83%)
  adding: doc/qpgraphSimulate.Rnw (188 bytes security) (deflated 68%)
  adding: doc/qpTxRegNet.pdf (188 bytes security) (deflated 13%)
  adding: doc/qpTxRegNet.R (188 bytes security) (deflated 81%)
  adding: doc/qpTxRegNet.Rnw (188 bytes security) (deflated 69%)
  adding: help/ (256 bytes security) (stored 0%)
  adding: help/aliases.rds (188 bytes security) (stored 0%)
  adding: help/AnIndex (188 bytes security) (deflated 84%)
  adding: help/paths.rds (188 bytes security) (stored 0%)
  adding: help/qpgraph.rdb (188 bytes security) (deflated 1%)
  adding: help/qpgraph.rdx (188 bytes security) (stored 0%)
  adding: html/ (256 bytes security) (stored 0%)
  adding: html/00Index.html (188 bytes security) (deflated 86%)
  adding: html/R.css (188 bytes security) (deflated 70%)
  adding: INDEX (188 bytes security) (deflated 64%)
  adding: libs/ (256 bytes security) (stored 0%)
  adding: libs/i386/ (256 bytes security) (stored 0%)
  adding: libs/i386/qpgraph.dll (188 bytes security) (deflated 56%)
  adding: libs/x64/ (256 bytes security) (stored 0%)
  adding: libs/x64/qpgraph.dll (188 bytes security) (deflated 53%)
  adding: MD5 (188 bytes security) (deflated 44%)
  adding: Meta/ (256 bytes security) (stored 0%)
  adding: Meta/data.rds (188 bytes security) (stored 0%)
  adding: Meta/hsearch.rds (188 bytes security) (stored 0%)
  adding: Meta/links.rds (188 bytes security) (stored 0%)
  adding: Meta/nsInfo.rds (188 bytes security) (stored 0%)
  adding: Meta/package.rds (188 bytes security) (stored 0%)
  adding: Meta/Rd.rds (188 bytes security) (stored 0%)
  adding: Meta/vignette.rds (188 bytes security) (stored 0%)
  adding: NAMESPACE (188 bytes security) (deflated 73%)
  adding: NEWS (188 bytes security) (deflated 65%)
  adding: R/ (256 bytes security) (stored 0%)
  adding: R/qpgraph (188 bytes security) (deflated 41%)
  adding: R/qpgraph.rdb (188 bytes security) (deflated 28%)
  adding: R/qpgraph.rdx (188 bytes security) (stored 0%)
  adding: snow/ (256 bytes security) (stored 0%)
  adding: snow/RMPInode.R (188 bytes security) (deflated 51%)
  adding: snow/RNWSnode.R (188 bytes security) (deflated 57%)
  adding: snow/RPVMnode.R (188 bytes security) (deflated 54%)
  adding: snow/RSOCKnode.R (188 bytes security) (deflated 53%)