pathview 1.4.2 Weijun Luo
 | Snapshot Date: 2014-10-07 17:20:37 -0700 (Tue, 07 Oct 2014) |  | URL: https://hedgehog.fhcrc.org/bioconductor/branches/RELEASE_2_14/madman/Rpacks/pathview |  | Last Changed Rev: 92580 / Revision: 95116 |  | Last Changed Date: 2014-07-16 20:02:24 -0700 (Wed, 16 Jul 2014) |  
  | zin2  | Linux (Ubuntu 12.04.4 LTS) / x86_64  |  OK  |  OK  |  OK  |  | 
| moscato2  | Windows Server 2008 R2 Enterprise SP1 (64-bit) / x64  |  OK  |  OK  |  OK  | [ OK ] | 
| petty  | Mac OS X Snow Leopard (10.6.8) / x86_64  |  OK  |  OK  |  OK  |  OK  | 
| morelia  | Mac OS X Mavericks (10.9.5) / x86_64  |  OK  |  OK  |  OK  |  OK  | 
##############################################################################
##############################################################################
###
### Running command:
###
###   cd pathview.buildbin-libdir/pathview && zip -r ../../pathview_1.4.2.zip . & cd ../..
###
##############################################################################
##############################################################################
  adding: CITATION (188 bytes security) (deflated 47%)
  adding: data/ (256 bytes security) (stored 0%)
  adding: data/bods.rda (188 bytes security) (stored 0%)
  adding: data/cpd.accs.rda (188 bytes security) (deflated 0%)
  adding: data/cpd.names.rda (188 bytes security) (deflated 0%)
  adding: data/cpd.simtypes.rda (188 bytes security) (stored 0%)
  adding: data/datalist (188 bytes security) (deflated 22%)
  adding: data/demo.paths.rda (188 bytes security) (stored 0%)
  adding: data/gene.idtype.list.rda (188 bytes security) (stored 0%)
  adding: data/gse16873.d.rda (188 bytes security) (deflated 0%)
  adding: data/kegg.met.rda (188 bytes security) (stored 0%)
  adding: data/KEGGEdgeSubtype.rda (188 bytes security) (stored 0%)
  adding: data/ko.ids.rda (188 bytes security) (deflated 0%)
  adding: data/korg.rda (188 bytes security) (deflated 0%)
  adding: data/rn.list.rda (188 bytes security) (stored 0%)
  adding: DESCRIPTION (188 bytes security) (deflated 47%)
  adding: doc/ (256 bytes security) (stored 0%)
  adding: doc/index.html (188 bytes security) (deflated 56%)
  adding: doc/pathview.pdf (188 bytes security) (deflated 7%)
  adding: doc/pathview.R (188 bytes security) (deflated 84%)
  adding: doc/pathview.Rnw (188 bytes security) (deflated 72%)
  adding: extdata/ (256 bytes security) (stored 0%)
  adding: extdata/hsa04110.png (188 bytes security) (deflated 4%)
  adding: extdata/hsa04110.xml (188 bytes security) (deflated 89%)
  adding: extdata/kegg.sigmet.rda (188 bytes security) (stored 0%)
  adding: help/ (256 bytes security) (stored 0%)
  adding: help/aliases.rds (188 bytes security) (stored 0%)
  adding: help/AnIndex (188 bytes security) (deflated 65%)
  adding: help/paths.rds (188 bytes security) (stored 0%)
  adding: help/pathview.rdb (188 bytes security) (deflated 1%)
  adding: help/pathview.rdx (188 bytes security) (stored 0%)
  adding: html/ (256 bytes security) (stored 0%)
  adding: html/00Index.html (188 bytes security) (deflated 78%)
  adding: html/R.css (188 bytes security) (deflated 70%)
  adding: INDEX (188 bytes security) (deflated 66%)
  adding: MD5 (188 bytes security) (deflated 44%)
  adding: Meta/ (256 bytes security) (stored 0%)
  adding: Meta/data.rds (188 bytes security) (stored 0%)
  adding: Meta/hsearch.rds (188 bytes security) (stored 0%)
  adding: Meta/links.rds (188 bytes security) (stored 0%)
  adding: Meta/nsInfo.rds (188 bytes security) (stored 0%)
  adding: Meta/package.rds (188 bytes security) (stored 0%)
  adding: Meta/Rd.rds (188 bytes security) (stored 0%)
  adding: Meta/vignette.rds (188 bytes security) (stored 0%)
  adding: NAMESPACE (188 bytes security) (deflated 52%)
  adding: NEWS (188 bytes security) (deflated 59%)
  adding: R/ (256 bytes security) (stored 0%)
  adding: R/pathview (188 bytes security) (deflated 41%)
  adding: R/pathview.rdb (188 bytes security) (deflated 3%)
  adding: R/pathview.rdx (188 bytes security) (stored 0%)
  adding: unitTests/ (256 bytes security) (stored 0%)
  adding: unitTests/test_mapper.R (188 bytes security) (deflated 71%)