| mzID 1.2.1 Thomas Lin Pedersen
 
 | Snapshot Date: 2014-10-07 17:20:37 -0700 (Tue, 07 Oct 2014) |  | URL: https://hedgehog.fhcrc.org/bioconductor/branches/RELEASE_2_14/madman/Rpacks/mzID |  | Last Changed Rev: 92522 / Revision: 95116 |  | Last Changed Date: 2014-07-15 12:12:54 -0700 (Tue, 15 Jul 2014) | 
 | zin2 | Linux (Ubuntu 12.04.4 LTS) / x86_64 | OK | OK | WARNINGS |  | 
| moscato2 | Windows Server 2008 R2 Enterprise SP1 (64-bit) / x64 | OK | OK | WARNINGS | [ OK ] | 
| petty | Mac OS X Snow Leopard (10.6.8) / x86_64 | OK | OK | WARNINGS | OK | 
| morelia | Mac OS X Mavericks (10.9.5) / x86_64 | OK | OK | WARNINGS | OK | 
##############################################################################
##############################################################################
###
### Running command:
###
###   cd mzID.buildbin-libdir/mzID && zip -r ../../mzID_1.2.1.zip . & cd ../..
###
##############################################################################
##############################################################################
  adding: DESCRIPTION (188 bytes security) (deflated 43%)
  adding: doc/ (256 bytes security) (stored 0%)
  adding: doc/HOWTO_mzID.pdf (188 bytes security) (deflated 8%)
  adding: doc/HOWTO_mzID.R (188 bytes security) (deflated 58%)
  adding: doc/HOWTO_mzID.Rnw (188 bytes security) (deflated 56%)
  adding: doc/index.html (188 bytes security) (deflated 56%)
  adding: help/ (256 bytes security) (stored 0%)
  adding: help/aliases.rds (188 bytes security) (stored 0%)
  adding: help/AnIndex (188 bytes security) (deflated 76%)
  adding: help/mzID.rdb (188 bytes security) (deflated 3%)
  adding: help/mzID.rdx (188 bytes security) (stored 0%)
  adding: help/paths.rds (188 bytes security) (stored 0%)
  adding: html/ (256 bytes security) (stored 0%)
  adding: html/00Index.html (188 bytes security) (deflated 80%)
  adding: html/R.css (188 bytes security) (deflated 70%)
  adding: INDEX (188 bytes security) (deflated 76%)
  adding: MD5 (188 bytes security) (deflated 42%)
  adding: Meta/ (256 bytes security) (stored 0%)
  adding: Meta/hsearch.rds (188 bytes security) (stored 0%)
  adding: Meta/links.rds (188 bytes security) (stored 0%)
  adding: Meta/nsInfo.rds (188 bytes security) (stored 0%)
  adding: Meta/package.rds (188 bytes security) (stored 0%)
  adding: Meta/Rd.rds (188 bytes security) (stored 0%)
  adding: Meta/vignette.rds (188 bytes security) (stored 0%)
  adding: NAMESPACE (188 bytes security) (deflated 65%)
  adding: NEWS (188 bytes security) (deflated 70%)
  adding: R/ (256 bytes security) (stored 0%)
  adding: R/mzID (188 bytes security) (deflated 41%)
  adding: R/mzID.rdb (188 bytes security) (deflated 28%)
  adding: R/mzID.rdx (188 bytes security) (stored 0%)
  adding: tests/ (256 bytes security) (stored 0%)
  adding: tests/run-all.R (188 bytes security) (deflated 15%)
  adding: tests/test-attrExtract.R (188 bytes security) (deflated 61%)
  adding: tests/test-attrExtractNameValuePair.R (188 bytes security) (deflated 54%)
  adding: tests/test-countChildren.R (188 bytes security) (deflated 67%)
  adding: tests/test-getPath.R (188 bytes security) (deflated 45%)
  adding: tests/test-getVersion.R (188 bytes security) (deflated 60%)
  adding: tests/test-isRemote.R (188 bytes security) (deflated 61%)
  adding: tests/testfile.xml (188 bytes security) (deflated 83%)