| graph 1.42.0 Bioconductor Package Maintainer
 
 | Snapshot Date: 2014-10-07 17:20:37 -0700 (Tue, 07 Oct 2014) |  | URL: https://hedgehog.fhcrc.org/bioconductor/branches/RELEASE_2_14/madman/Rpacks/graph |  | Last Changed Rev: 88838 / Revision: 95116 |  | Last Changed Date: 2014-04-11 14:07:21 -0700 (Fri, 11 Apr 2014) | 
 | zin2 | Linux (Ubuntu 12.04.4 LTS) / x86_64 | OK | OK | OK |  | 
| moscato2 | Windows Server 2008 R2 Enterprise SP1 (64-bit) / x64 | OK | OK | OK | [ OK ] | 
| petty | Mac OS X Snow Leopard (10.6.8) / x86_64 | OK | OK | OK | OK | 
| morelia | Mac OS X Mavericks (10.9.5) / x86_64 | OK | OK | OK | OK | 
##############################################################################
##############################################################################
###
### Running command:
###
###   cd graph.buildbin-libdir/graph && zip -r ../../graph_1.42.0.zip . & cd ../..
###
##############################################################################
##############################################################################
  adding: data/ (256 bytes security) (stored 0%)
  adding: data/apopGraph.rda (188 bytes security) (stored 0%)
  adding: data/biocRepos.rda (188 bytes security) (stored 0%)
  adding: data/defunctGraph.rda (188 bytes security) (stored 0%)
  adding: data/esetsFemale.rda (188 bytes security) (deflated 0%)
  adding: data/esetsMale.rda (188 bytes security) (deflated 0%)
  adding: data/graphExamples.rda (188 bytes security) (deflated 0%)
  adding: data/integrinMediatedCellAdhesion.rda (188 bytes security) (stored 0%)
  adding: data/MAPKsig.rda (188 bytes security) (stored 0%)
  adding: data/pancrCaIni.rda (188 bytes security) (stored 0%)
  adding: DESCRIPTION (188 bytes security) (deflated 44%)
  adding: doc/ (256 bytes security) (stored 0%)
  adding: doc/clusterGraph.pdf (188 bytes security) (deflated 6%)
  adding: doc/clusterGraph.R (188 bytes security) (deflated 67%)
  adding: doc/clusterGraph.Rnw (188 bytes security) (deflated 51%)
  adding: doc/graph.pdf (188 bytes security) (deflated 8%)
  adding: doc/graph.R (188 bytes security) (deflated 75%)
  adding: doc/graph.Rnw (188 bytes security) (deflated 62%)
  adding: doc/graphAttributes.pdf (188 bytes security) (deflated 9%)
  adding: doc/graphAttributes.R (188 bytes security) (deflated 82%)
  adding: doc/graphAttributes.Rnw (188 bytes security) (deflated 66%)
  adding: doc/GraphClass.pdf (188 bytes security) (deflated 7%)
  adding: doc/GraphClass.R (188 bytes security) (deflated 69%)
  adding: doc/GraphClass.Rnw (188 bytes security) (deflated 63%)
  adding: doc/index.html (188 bytes security) (deflated 78%)
  adding: doc/MultiGraphClass.pdf (188 bytes security) (deflated 8%)
  adding: doc/MultiGraphClass.R (188 bytes security) (deflated 82%)
  adding: doc/MultiGraphClass.Rnw (188 bytes security) (deflated 70%)
  adding: GXL/ (256 bytes security) (stored 0%)
  adding: GXL/attributesExample.gxl (188 bytes security) (deflated 75%)
  adding: GXL/c2.gxl (188 bytes security) (deflated 82%)
  adding: GXL/complexExample.gxl (188 bytes security) (deflated 83%)
  adding: GXL/createGraphExamples.R (188 bytes security) (deflated 33%)
  adding: GXL/graphExample-01.gxl.gz (188 bytes security) (stored 0%)
  adding: GXL/graphExample-02.gxl.gz (188 bytes security) (stored 0%)
  adding: GXL/graphExample-03.gxl.gz (188 bytes security) (stored 0%)
  adding: GXL/graphExample-04.gxl.gz (188 bytes security) (stored 0%)
  adding: GXL/graphExample-05.gxl.gz (188 bytes security) (stored 0%)
  adding: GXL/graphExample-06.gxl.gz (188 bytes security) (stored 0%)
  adding: GXL/graphExample-07.gxl.gz (188 bytes security) (stored 0%)
  adding: GXL/graphExample-08.gxl.gz (188 bytes security) (stored 0%)
  adding: GXL/graphExample-09.gxl.gz (188 bytes security) (stored 0%)
  adding: GXL/graphExample-10.gxl.gz (188 bytes security) (stored 0%)
  adding: GXL/graphExample-11.gxl.gz (188 bytes security) (stored 0%)
  adding: GXL/graphExample-12.gxl.gz (188 bytes security) (deflated 11%)
  adding: GXL/graphExample-13.gxl.gz (188 bytes security) (stored 0%)
  adding: GXL/graphExample-14.gxl.gz (188 bytes security) (stored 0%)
  adding: GXL/graphExample-15.gxl.gz (188 bytes security) (stored 0%)
  adding: GXL/graphExample-16.gxl.gz (188 bytes security) (deflated 4%)
  adding: GXL/graphExample-17.gxl.gz (188 bytes security) (stored 0%)
  adding: GXL/graphExample-18.gxl.gz (188 bytes security) (stored 0%)
  adding: GXL/gxl-1.0.1.dtd (188 bytes security) (deflated 68%)
  adding: GXL/kmstEx.gxl (188 bytes security) (deflated 78%)
  adding: GXL/outOfOrderExample.gxl (188 bytes security) (deflated 72%)
  adding: GXL/simpleExample.gxl (188 bytes security) (deflated 70%)
  adding: GXL/simplExample.gxl.www (188 bytes security) (deflated 74%)
  adding: help/ (256 bytes security) (stored 0%)
  adding: help/aliases.rds (188 bytes security) (stored 0%)
  adding: help/AnIndex (188 bytes security) (deflated 87%)
  adding: help/graph.rdb (188 bytes security) (deflated 1%)
  adding: help/graph.rdx (188 bytes security) (stored 0%)
  adding: help/paths.rds (188 bytes security) (stored 0%)
  adding: html/ (256 bytes security) (stored 0%)
  adding: html/00Index.html (188 bytes security) (deflated 90%)
  adding: html/R.css (188 bytes security) (deflated 70%)
  adding: INDEX (188 bytes security) (deflated 69%)
  adding: libs/ (256 bytes security) (stored 0%)
  adding: libs/i386/ (256 bytes security) (stored 0%)
  adding: libs/i386/BioC_graph.dll (188 bytes security) (deflated 54%)
  adding: libs/x64/ (256 bytes security) (stored 0%)
  adding: libs/x64/BioC_graph.dll (188 bytes security) (deflated 53%)
  adding: MD5 (188 bytes security) (deflated 50%)
  adding: Meta/ (256 bytes security) (stored 0%)
  adding: Meta/data.rds (188 bytes security) (stored 0%)
  adding: Meta/hsearch.rds (188 bytes security) (stored 0%)
  adding: Meta/links.rds (188 bytes security) (stored 0%)
  adding: Meta/nsInfo.rds (188 bytes security) (stored 0%)
  adding: Meta/package.rds (188 bytes security) (stored 0%)
  adding: Meta/Rd.rds (188 bytes security) (stored 0%)
  adding: Meta/vignette.rds (188 bytes security) (stored 0%)
  adding: NAMESPACE (188 bytes security) (deflated 63%)
  adding: perf/ (256 bytes security) (stored 0%)
  adding: perf/bgt.R (188 bytes security) (deflated 71%)
  adding: perf/graphperf.Rnw (188 bytes security) (deflated 69%)
  adding: perf/Makefile (188 bytes security) (deflated 36%)
  adding: perf/multigraphs.Rnw (188 bytes security) (deflated 51%)
  adding: R/ (256 bytes security) (stored 0%)
  adding: R/graph (188 bytes security) (deflated 41%)
  adding: R/graph.rdb (188 bytes security) (deflated 35%)
  adding: R/graph.rdx (188 bytes security) (deflated 2%)
  adding: Scripts/ (256 bytes security) (stored 0%)
  adding: Scripts/distGraph.R (188 bytes security) (deflated 43%)
  adding: Scripts/Graph.R (188 bytes security) (deflated 61%)
  adding: Scripts/multigraph.R (188 bytes security) (deflated 41%)
  adding: Scripts/pTreetest.R (188 bytes security) (deflated 32%)
  adding: Scripts/testintersection.R (188 bytes security) (deflated 55%)
  adding: unitTests/ (256 bytes security) (stored 0%)
  adding: unitTests/attrData_test.R (188 bytes security) (deflated 76%)
  adding: unitTests/clusterGraph_test.R (188 bytes security) (deflated 52%)
  adding: unitTests/degree_test.R (188 bytes security) (deflated 52%)
  adding: unitTests/edgeWeights_test.R (188 bytes security) (deflated 72%)
  adding: unitTests/graphAM_test.R (188 bytes security) (deflated 80%)
  adding: unitTests/graphBAM_test.R (188 bytes security) (deflated 86%)
  adding: unitTests/graphNEL_test.R (188 bytes security) (deflated 75%)
  adding: unitTests/gxl_test.R (188 bytes security) (deflated 72%)
  adding: unitTests/leaves_test.R (188 bytes security) (deflated 54%)
  adding: unitTests/MultiGraph_test.R (188 bytes security) (deflated 85%)
  adding: unitTests/nodeAndEdgeData_test.R (188 bytes security) (deflated 83%)
  adding: unitTests/setbit_test.R (188 bytes security) (deflated 72%)
  adding: unitTests/simple_sparse_test.R (188 bytes security) (deflated 56%)