| goseq 1.16.2 Nadia Davidson
 
 | Snapshot Date: 2014-10-07 17:20:37 -0700 (Tue, 07 Oct 2014) |  | URL: https://hedgehog.fhcrc.org/bioconductor/branches/RELEASE_2_14/madman/Rpacks/goseq |  | Last Changed Rev: 92089 / Revision: 95116 |  | Last Changed Date: 2014-07-01 18:09:29 -0700 (Tue, 01 Jul 2014) | 
 | zin2 | Linux (Ubuntu 12.04.4 LTS) / x86_64 | OK | OK | OK |  | 
| moscato2 | Windows Server 2008 R2 Enterprise SP1 (64-bit) / x64 | OK | OK | OK | [ OK ] | 
| petty | Mac OS X Snow Leopard (10.6.8) / x86_64 | OK | OK | OK | OK | 
| morelia | Mac OS X Mavericks (10.9.5) / x86_64 | OK | OK | OK | OK | 
##############################################################################
##############################################################################
###
### Running command:
###
###   cd goseq.buildbin-libdir/goseq && zip -r ../../goseq_1.16.2.zip . & cd ../..
###
##############################################################################
##############################################################################
  adding: CITATION (188 bytes security) (deflated 43%)
  adding: data/ (256 bytes security) (stored 0%)
  adding: data/genes.RData (188 bytes security) (deflated 0%)
  adding: DESCRIPTION (188 bytes security) (deflated 33%)
  adding: doc/ (256 bytes security) (stored 0%)
  adding: doc/goseq.pdf (188 bytes security) (deflated 6%)
  adding: doc/goseq.R (188 bytes security) (deflated 80%)
  adding: doc/goseq.Rnw (188 bytes security) (deflated 66%)
  adding: doc/index.html (188 bytes security) (deflated 56%)
  adding: extdata/ (256 bytes security) (stored 0%)
  adding: extdata/Li_sum.txt (188 bytes security) (deflated 77%)
  adding: help/ (256 bytes security) (stored 0%)
  adding: help/aliases.rds (188 bytes security) (stored 0%)
  adding: help/AnIndex (188 bytes security) (deflated 36%)
  adding: help/goseq.rdb (188 bytes security) (deflated 0%)
  adding: help/goseq.rdx (188 bytes security) (stored 0%)
  adding: help/paths.rds (188 bytes security) (stored 0%)
  adding: html/ (256 bytes security) (stored 0%)
  adding: html/00Index.html (188 bytes security) (deflated 60%)
  adding: html/R.css (188 bytes security) (deflated 70%)
  adding: INDEX (188 bytes security) (deflated 53%)
  adding: MD5 (188 bytes security) (deflated 41%)
  adding: Meta/ (256 bytes security) (stored 0%)
  adding: Meta/data.rds (188 bytes security) (stored 0%)
  adding: Meta/hsearch.rds (188 bytes security) (stored 0%)
  adding: Meta/links.rds (188 bytes security) (stored 0%)
  adding: Meta/nsInfo.rds (188 bytes security) (stored 0%)
  adding: Meta/package.rds (188 bytes security) (stored 0%)
  adding: Meta/Rd.rds (188 bytes security) (stored 0%)
  adding: Meta/vignette.rds (188 bytes security) (stored 0%)
  adding: NAMESPACE (188 bytes security) (deflated 38%)
  adding: R/ (256 bytes security) (stored 0%)
  adding: R/goseq (188 bytes security) (deflated 41%)
  adding: R/goseq.rdb (188 bytes security) (deflated 2%)
  adding: R/goseq.rdx (188 bytes security) (stored 0%)