| gCMAP 1.8.0 Thomas Sandmann
 
 | Snapshot Date: 2014-10-07 17:20:37 -0700 (Tue, 07 Oct 2014) |  | URL: https://hedgehog.fhcrc.org/bioconductor/branches/RELEASE_2_14/madman/Rpacks/gCMAP |  | Last Changed Rev: 88838 / Revision: 95116 |  | Last Changed Date: 2014-04-11 14:07:21 -0700 (Fri, 11 Apr 2014) | 
 | zin2 | Linux (Ubuntu 12.04.4 LTS) / x86_64 | OK | OK | OK |  | 
| moscato2 | Windows Server 2008 R2 Enterprise SP1 (64-bit) / x64 | OK | OK | OK | [ OK ] | 
| petty | Mac OS X Snow Leopard (10.6.8) / x86_64 | OK | OK | OK | OK | 
| morelia | Mac OS X Mavericks (10.9.5) / x86_64 | OK | OK | OK | OK | 
##############################################################################
##############################################################################
###
### Running command:
###
###   cd gCMAP.buildbin-libdir/gCMAP && zip -r ../../gCMAP_1.8.0.zip . & cd ../..
###
##############################################################################
##############################################################################
  adding: data/ (256 bytes security) (stored 0%)
  adding: data/gCMAPData.RData (188 bytes security) (deflated 10%)
  adding: DESCRIPTION (188 bytes security) (deflated 55%)
  adding: doc/ (256 bytes security) (stored 0%)
  adding: doc/diffExprAnalysis.pdf (188 bytes security) (deflated 6%)
  adding: doc/diffExprAnalysis.R (188 bytes security) (deflated 72%)
  adding: doc/diffExprAnalysis.Rnw (188 bytes security) (deflated 61%)
  adding: doc/gCMAP.pdf (188 bytes security) (deflated 16%)
  adding: doc/gCMAP.R (188 bytes security) (deflated 77%)
  adding: doc/gCMAP.Rnw (188 bytes security) (deflated 63%)
  adding: doc/index.html (188 bytes security) (deflated 65%)
  adding: help/ (256 bytes security) (stored 0%)
  adding: help/aliases.rds (188 bytes security) (stored 0%)
  adding: help/AnIndex (188 bytes security) (deflated 89%)
  adding: help/gCMAP.rdb (188 bytes security) (deflated 1%)
  adding: help/gCMAP.rdx (188 bytes security) (stored 0%)
  adding: help/paths.rds (188 bytes security) (stored 0%)
  adding: html/ (256 bytes security) (stored 0%)
  adding: html/00Index.html (188 bytes security) (deflated 87%)
  adding: html/R.css (188 bytes security) (deflated 70%)
  adding: INDEX (188 bytes security) (deflated 68%)
  adding: MD5 (188 bytes security) (deflated 42%)
  adding: Meta/ (256 bytes security) (stored 0%)
  adding: Meta/data.rds (188 bytes security) (stored 0%)
  adding: Meta/hsearch.rds (188 bytes security) (stored 0%)
  adding: Meta/links.rds (188 bytes security) (stored 0%)
  adding: Meta/nsInfo.rds (188 bytes security) (stored 0%)
  adding: Meta/package.rds (188 bytes security) (stored 0%)
  adding: Meta/Rd.rds (188 bytes security) (stored 0%)
  adding: Meta/vignette.rds (188 bytes security) (stored 0%)
  adding: NAMESPACE (188 bytes security) (deflated 73%)
  adding: NEWS.Rd (188 bytes security) (deflated 66%)
  adding: R/ (256 bytes security) (stored 0%)
  adding: R/gCMAP (188 bytes security) (deflated 41%)
  adding: R/gCMAP.rdb (188 bytes security) (deflated 21%)
  adding: R/gCMAP.rdx (188 bytes security) (deflated 3%)
  adding: unitTests/ (256 bytes security) (stored 0%)
  adding: unitTests/test_all.R (188 bytes security) (deflated 74%)