| flowStats 3.22.6 Greg Finak  and Mike Jiang
 
 | Snapshot Date: 2014-10-07 17:20:37 -0700 (Tue, 07 Oct 2014) |  | URL: https://hedgehog.fhcrc.org/bioconductor/branches/RELEASE_2_14/madman/Rpacks/flowStats |  | Last Changed Rev: 91304 / Revision: 95116 |  | Last Changed Date: 2014-06-11 15:59:43 -0700 (Wed, 11 Jun 2014) | 
 | zin2 | Linux (Ubuntu 12.04.4 LTS) / x86_64 | OK | OK | OK |  | 
| moscato2 | Windows Server 2008 R2 Enterprise SP1 (64-bit) / x64 | OK | OK | OK | OK | 
| petty | Mac OS X Snow Leopard (10.6.8) / x86_64 | OK | OK | OK | [ OK ] | 
| morelia | Mac OS X Mavericks (10.9.5) / x86_64 | OK | OK | OK | OK | 
##############################################################################
##############################################################################
###
### Running command:
###
###   rm -rf flowStats.buildbin-libdir && mkdir flowStats.buildbin-libdir && /Users/biocbuild/BBS/utils/build-universal.sh flowStats_3.22.6.tar.gz /Library/Frameworks/R.framework/Versions/Current/Resources/bin/R flowStats.buildbin-libdir
###
##############################################################################
##############################################################################
>>>>>>> 
>>>>>>> INSTALLATION WITH 'R CMD INSTALL --preclean --no-multiarch --library=flowStats.buildbin-libdir flowStats_3.22.6.tar.gz'
>>>>>>> 
* installing *source* package ‘flowStats’ ...
** R
** data
** inst
** preparing package for lazy loading
Warning in rgl.init(initValue, onlyNULL) :
  RGL: GLX extension missing on server
Warning in fun(libname, pkgname) : error in rgl_init
** help
*** installing help indices
** building package indices
** installing vignettes
** testing if installed package can be loaded
Warning in rgl.init(initValue, onlyNULL) :
  RGL: GLX extension missing on server
Warning in fun(libname, pkgname) : error in rgl_init
* DONE (flowStats)