flowFit 1.2.0 Davide Rambaldi
| Snapshot Date: 2014-05-19 17:02:02 -0700 (Mon, 19 May 2014) | | URL: https://hedgehog.fhcrc.org/bioconductor/branches/RELEASE_2_14/madman/Rpacks/flowFit | | Last Changed Rev: 88838 / Revision: 90518 | | Last Changed Date: 2014-04-11 14:07:21 -0700 (Fri, 11 Apr 2014) |
| zin2 | Linux (Ubuntu 12.04.4 LTS) / x86_64 | OK | OK | |
| moscato2 | Windows Server 2008 R2 Enterprise SP1 (64-bit) / x64 | OK | OK | OK |
| petty | Mac OS X Snow Leopard (10.6.8) / x86_64 | OK | OK | OK |
| morelia | Mac OS X Mavericks (10.9.2) / x86_64 | OK | OK | [ OK ] |
>>>>>>>
>>>>>>> INSTALLATION WITH 'R CMD INSTALL --preclean --no-multiarch --library=flowFit.buildbin-libdir flowFit_1.2.0.tar.gz'
>>>>>>>
* installing *source* package 'flowFit' ...
** R
** demo
** inst
** preparing package for lazy loading
** help
*** installing help indices
** building package indices
** installing vignettes
** testing if installed package can be loaded
* DONE (flowFit)