| flowCore 1.30.7 M.Jiang
 
 | Snapshot Date: 2014-10-07 17:20:37 -0700 (Tue, 07 Oct 2014) |  | URL: https://hedgehog.fhcrc.org/bioconductor/branches/RELEASE_2_14/madman/Rpacks/flowCore |  | Last Changed Rev: 90486 / Revision: 95116 |  | Last Changed Date: 2014-05-19 12:25:08 -0700 (Mon, 19 May 2014) | 
 | zin2 | Linux (Ubuntu 12.04.4 LTS) / x86_64 | OK | OK | OK |  | 
| moscato2 | Windows Server 2008 R2 Enterprise SP1 (64-bit) / x64 | OK | OK | OK | [ OK ] | 
| petty | Mac OS X Snow Leopard (10.6.8) / x86_64 | OK | OK | OK | OK | 
| morelia | Mac OS X Mavericks (10.9.5) / x86_64 | OK | OK | OK | OK | 
##############################################################################
##############################################################################
###
### Running command:
###
###   cd flowCore.buildbin-libdir/flowCore && zip -r ../../flowCore_1.30.7.zip . & cd ../..
###
##############################################################################
##############################################################################
  adding: data/ (256 bytes security) (stored 0%)
  adding: data/datalist (188 bytes security) (stored 0%)
  adding: data/GvHD.rda (188 bytes security) (deflated 0%)
  adding: DESCRIPTION (188 bytes security) (deflated 52%)
  adding: doc/ (256 bytes security) (stored 0%)
  adding: doc/HowTo-flowCore.pdf (188 bytes security) (deflated 34%)
  adding: doc/HowTo-flowCore.R (188 bytes security) (deflated 83%)
  adding: doc/HowTo-flowCore.Rnw (188 bytes security) (deflated 66%)
  adding: doc/index.html (188 bytes security) (deflated 57%)
  adding: extdata/ (256 bytes security) (stored 0%)
  adding: extdata/0877408774.B08 (188 bytes security) (deflated 30%)
  adding: extdata/0877408774.E07 (188 bytes security) (deflated 29%)
  adding: extdata/0877408774.F06 (188 bytes security) (deflated 33%)
  adding: extdata/compdata/ (256 bytes security) (stored 0%)
  adding: extdata/compdata/compmatrix (188 bytes security) (deflated 22%)
  adding: extdata/compdata/data/ (256 bytes security) (stored 0%)
  adding: extdata/compdata/data/060909.001 (188 bytes security) (deflated 39%)
  adding: extdata/compdata/data/060909.002 (188 bytes security) (deflated 32%)
  adding: extdata/compdata/data/060909.003 (188 bytes security) (deflated 37%)
  adding: extdata/compdata/data/060909.004 (188 bytes security) (deflated 39%)
  adding: extdata/compdata/data/060909.005 (188 bytes security) (deflated 36%)
  adding: help/ (256 bytes security) (stored 0%)
  adding: help/aliases.rds (188 bytes security) (stored 0%)
  adding: help/AnIndex (188 bytes security) (deflated 87%)
  adding: help/flowCore.rdb (188 bytes security) (deflated 1%)
  adding: help/flowCore.rdx (188 bytes security) (deflated 2%)
  adding: help/paths.rds (188 bytes security) (stored 0%)
  adding: html/ (256 bytes security) (stored 0%)
  adding: html/00Index.html (188 bytes security) (deflated 91%)
  adding: html/R.css (188 bytes security) (deflated 70%)
  adding: INDEX (188 bytes security) (deflated 76%)
  adding: libs/ (256 bytes security) (stored 0%)
  adding: libs/i386/ (256 bytes security) (stored 0%)
  adding: libs/i386/flowCore.dll (188 bytes security) (deflated 65%)
  adding: libs/x64/ (256 bytes security) (stored 0%)
  adding: libs/x64/flowCore.dll (188 bytes security) (deflated 69%)
  adding: MD5 (188 bytes security) (deflated 49%)
  adding: Meta/ (256 bytes security) (stored 0%)
  adding: Meta/data.rds (188 bytes security) (stored 0%)
  adding: Meta/hsearch.rds (188 bytes security) (deflated 2%)
  adding: Meta/links.rds (188 bytes security) (stored 0%)
  adding: Meta/nsInfo.rds (188 bytes security) (stored 0%)
  adding: Meta/package.rds (188 bytes security) (stored 0%)
  adding: Meta/Rd.rds (188 bytes security) (stored 0%)
  adding: Meta/vignette.rds (188 bytes security) (stored 0%)
  adding: NAMESPACE (188 bytes security) (deflated 79%)
  adding: NEWS (188 bytes security) (deflated 54%)
  adding: R/ (256 bytes security) (stored 0%)
  adding: R/flowCore (188 bytes security) (deflated 41%)
  adding: R/flowCore.rdb (188 bytes security) (deflated 28%)
  adding: R/flowCore.rdx (188 bytes security) (deflated 3%)
  adding: scripts/ (256 bytes security) (stored 0%)
  adding: scripts/smoothScatter/ (256 bytes security) (stored 0%)
  adding: scripts/smoothScatter/backcol.jpg (188 bytes security) (deflated 2%)
  adding: scripts/smoothScatter/backgray.jpg (188 bytes security) (deflated 72%)
  adding: scripts/smoothScatter/backhue.jpg (188 bytes security) (deflated 1%)
  adding: scripts/smoothScatter/backsat.jpg (188 bytes security) (deflated 0%)
  adding: scripts/smoothScatter/backval.jpg (188 bytes security) (deflated 0%)
  adding: scripts/smoothScatter/blendFuns.R (188 bytes security) (deflated 68%)
  adding: scripts/smoothScatter/examples.R (188 bytes security) (deflated 74%)
  adding: scripts/smoothScatter/foreground.jpg (188 bytes security) (deflated 0%)
  adding: scripts/smoothScatter/smoothScatterMult.R (188 bytes security) (deflated 65%)
  adding: scripts/smoothScatter/testBlendEBImage.R (188 bytes security) (deflated 67%)
  adding: tests/ (256 bytes security) (stored 0%)
  adding: tests/filterSetTest.R (188 bytes security) (deflated 61%)
  adding: tests/filterTest.R (188 bytes security) (deflated 72%)
  adding: tests/transformTest.R (188 bytes security) (deflated 56%)
  adding: tests/unitTests.R (188 bytes security) (deflated 43%)
  adding: unitTests/ (256 bytes security) (stored 0%)
  adding: unitTests/runit.00classes.R (188 bytes security) (deflated 49%)
  adding: unitTests/runit.flowFrame.R (188 bytes security) (deflated 2%)
  adding: unitTests/runit.gating.R (188 bytes security) (deflated 71%)