cellHTS 1.34.0 Ligia Bras
 | Snapshot Date: 2014-10-07 17:20:37 -0700 (Tue, 07 Oct 2014) |  | URL: https://hedgehog.fhcrc.org/bioconductor/branches/RELEASE_2_14/madman/Rpacks/cellHTS |  | Last Changed Rev: 88838 / Revision: 95116 |  | Last Changed Date: 2014-04-11 14:07:21 -0700 (Fri, 11 Apr 2014) |  
  | zin2  | Linux (Ubuntu 12.04.4 LTS) / x86_64  |  OK  |  OK  |  OK  |  | 
| moscato2  | Windows Server 2008 R2 Enterprise SP1 (64-bit) / x64  |  OK  |  OK  |  OK  |  OK  | 
| petty  | Mac OS X Snow Leopard (10.6.8) / x86_64  |  OK  |  OK  |  OK  |  OK  | 
| morelia  | Mac OS X Mavericks (10.9.5) / x86_64  |  OK  |  OK  | [ OK ] |  OK  | 
##############################################################################
##############################################################################
###
### Running command:
###
###   /Library/Frameworks/R.framework/Versions/Current/Resources/bin/R CMD check --no-vignettes --timings --no-multiarch cellHTS_1.34.0.tar.gz
###
##############################################################################
##############################################################################
* using log directory ‘/Users/biocbuild/bbs-2.14-bioc/meat/cellHTS.Rcheck’
* using R version 3.1.1 (2014-07-10)
* using platform: x86_64-apple-darwin13.1.0 (64-bit)
* using session charset: UTF-8
* using option ‘--no-vignettes’
* checking for file ‘cellHTS/DESCRIPTION’ ... OK
* this is package ‘cellHTS’ version ‘1.34.0’
* checking package namespace information ... OK
* checking package dependencies ... OK
* checking if this is a source package ... OK
* checking if there is a namespace ... OK
* checking for hidden files and directories ... OK
* checking for portable file names ... OK
* checking for sufficient/correct file permissions ... OK
* checking whether package ‘cellHTS’ can be installed ... [12s/13s] OK
* checking installed package size ... OK
* checking package directory ... OK
* checking ‘build’ directory ... OK
* checking DESCRIPTION meta-information ... OK
* checking top-level files ... OK
* checking for left-over files ... OK
* checking index information ... OK
* checking package subdirectories ... OK
* checking R files for non-ASCII characters ... OK
* checking R files for syntax errors ... OK
* checking whether the package can be loaded ... OK
* checking whether the package can be loaded with stated dependencies ... OK
* checking whether the package can be unloaded cleanly ... OK
* checking whether the namespace can be loaded with stated dependencies ... OK
* checking whether the namespace can be unloaded cleanly ... OK
* checking dependencies in R code ... NOTE
'library' or 'require' call to ‘prada’ which was already attached by Depends.
  Please remove these calls from your code.
Packages in Depends field not imported from:
  ‘Biobase’ ‘RColorBrewer’ ‘genefilter’ ‘prada’
  These packages need to be imported from (in the NAMESPACE file)
  for when this namespace is loaded but not attached.
There are ::: calls to the package's namespace in its code. A package
  almost never needs to use ::: for its own objects:
  ‘scaleByPlateMedian’
See the information on DESCRIPTION files in the chapter ‘Creating R
packages’ of the ‘Writing R Extensions’ manual.
* checking S3 generic/method consistency ... OK
* checking replacement functions ... OK
* checking foreign function calls ... OK
* checking R code for possible problems ... NOTE
File ‘cellHTS/R/zzz.R’:
  .onAttach calls:
    message(paste("\n-------------------------------------------------------------------",     "\nA note from the 'cellHTS' package:", "\nThe package 'cellHTS2' offers better functionality for working with",     "\nmultiple screens and with multi-channel screens. Please consider",     "\nusing 'cellHTS2' for new projects. However, 'cellHTS' will be",     "\nsupported for a while to help with your existing projects.",     "\n-------------------------------------------------------------------\n\n",     sep = ""))
Package startup functions should use ‘packageStartupMessage’ to
  generate messages.
See section ‘Good practice’ in '?.onAttach'.
annotate.cellHTS: warning in read.table(file.path(path, file), sep =
  "\t", header = TRUE, as.is = TRUE, na.string = "", quote = "", fill =
  TRUE): partial argument match of 'na.string' to 'na.strings'
configure.cellHTS: warning in read.table(file.path(ppath, confFile),
  sep = "\t", header = TRUE, as.is = TRUE, na.string = "", fill =
  TRUE): partial argument match of 'na.string' to 'na.strings'
configure.cellHTS: warning in read.table(file.path(ppath, logFile), sep
  = "\t", header = TRUE, as.is = TRUE, na.string = "", fill = TRUE):
  partial argument match of 'na.string' to 'na.strings'
tableOutput: warning in read.table(fn, sep = "\t", header = header,
  na.string = "", as.is = TRUE): partial argument match of 'na.string'
  to 'na.strings'
* checking Rd files ... NOTE
prepare_Rd: oneRowPerId.Rd:19: Dropping empty section \details
* checking Rd metadata ... OK
* checking Rd cross-references ... OK
* checking for missing documentation entries ... OK
* checking for code/documentation mismatches ... OK
* checking Rd \usage sections ... OK
* checking Rd contents ... OK
* checking for unstated dependencies in examples ... OK
* checking contents of ‘data’ directory ... OK
* checking data for non-ASCII characters ... OK
* checking data for ASCII and uncompressed saves ... OK
* checking sizes of PDF files under ‘inst/doc’ ... OK
* checking installed files from ‘inst/doc’ ... OK
* checking files in ‘vignettes’ ... OK
* checking examples ... [9s/9s] OK
* checking for unstated dependencies in vignettes ... OK
* checking package vignettes in ‘inst/doc’ ... OK
* checking running R code from vignettes ... SKIPPED
* checking re-building of vignette outputs ... SKIPPED
* checking PDF version of manual ... OK
NOTE: There were 3 notes.
See
  ‘/Users/biocbuild/bbs-2.14-bioc/meat/cellHTS.Rcheck/00check.log’
for details.