| biovizBase 1.12.3 Tengfei Yin
 
 | Snapshot Date: 2014-10-07 17:20:37 -0700 (Tue, 07 Oct 2014) |  | URL: https://hedgehog.fhcrc.org/bioconductor/branches/RELEASE_2_14/madman/Rpacks/biovizBase |  | Last Changed Rev: 93624 / Revision: 95116 |  | Last Changed Date: 2014-08-26 15:13:40 -0700 (Tue, 26 Aug 2014) | 
 | zin2 | Linux (Ubuntu 12.04.4 LTS) / x86_64 | OK | OK | OK |  | 
| moscato2 | Windows Server 2008 R2 Enterprise SP1 (64-bit) / x64 | OK | OK | OK | [ OK ] | 
| petty | Mac OS X Snow Leopard (10.6.8) / x86_64 | OK | OK | OK | OK | 
| morelia | Mac OS X Mavericks (10.9.5) / x86_64 | OK | OK | OK | OK | 
##############################################################################
##############################################################################
###
### Running command:
###
###   cd biovizBase.buildbin-libdir/biovizBase && zip -r ../../biovizBase_1.12.3.zip . & cd ../..
###
##############################################################################
##############################################################################
  adding: data/ (256 bytes security) (stored 0%)
  adding: data/CRC.rda (188 bytes security) (deflated 0%)
  adding: data/crc1.GeRL.rda (188 bytes security) (deflated 2%)
  adding: data/darned_hg19_subset500.rda (188 bytes security) (stored 0%)
  adding: data/genesymbol.rda (188 bytes security) (deflated 0%)
  adding: data/hg19Ideogram.rda (188 bytes security) (stored 0%)
  adding: data/hg19IdeogramCyto.rda (188 bytes security) (stored 0%)
  adding: data/ideo.rda (188 bytes security) (stored 0%)
  adding: data/ideoCyto.rda (188 bytes security) (deflated 0%)
  adding: DESCRIPTION (188 bytes security) (deflated 45%)
  adding: doc/ (256 bytes security) (stored 0%)
  adding: doc/index.html (188 bytes security) (deflated 57%)
  adding: doc/intro.pdf (188 bytes security) (deflated 17%)
  adding: doc/intro.R (188 bytes security) (deflated 78%)
  adding: doc/intro.Rnw (188 bytes security) (deflated 65%)
  adding: examples/ (256 bytes security) (stored 0%)
  adding: examples/color.R (188 bytes security) (deflated 79%)
  adding: examples/data-gen.R (188 bytes security) (deflated 69%)
  adding: examples/test.R (188 bytes security) (deflated 68%)
  adding: extdata/ (256 bytes security) (stored 0%)
  adding: extdata/17-1409-CEU-brca1.vcf.bgz (188 bytes security) (stored 0%)
  adding: extdata/17-1409-CEU-brca1.vcf.bgz.tbi (188 bytes security) (deflated 14%)
  adding: extdata/crc-rearrangment.csv (188 bytes security) (deflated 74%)
  adding: extdata/crc1-missense.csv (188 bytes security) (deflated 74%)
  adding: extdata/plink.assoc.sub.txt (188 bytes security) (deflated 64%)
  adding: extdata/SRR027894subRBM17.bam (188 bytes security) (deflated 0%)
  adding: extdata/SRR027894subRBM17.bam.bai (188 bytes security) (deflated 98%)
  adding: extdata/wg-brca1.sorted.bam (188 bytes security) (deflated 0%)
  adding: extdata/wg-brca1.sorted.bam.bai (188 bytes security) (deflated 98%)
  adding: help/ (256 bytes security) (stored 0%)
  adding: help/aliases.rds (188 bytes security) (stored 0%)
  adding: help/AnIndex (188 bytes security) (deflated 74%)
  adding: help/biovizBase.rdb (188 bytes security) (deflated 2%)
  adding: help/biovizBase.rdx (188 bytes security) (stored 0%)
  adding: help/paths.rds (188 bytes security) (stored 0%)
  adding: html/ (256 bytes security) (stored 0%)
  adding: html/00Index.html (188 bytes security) (deflated 82%)
  adding: html/R.css (188 bytes security) (deflated 70%)
  adding: INDEX (188 bytes security) (deflated 62%)
  adding: libs/ (256 bytes security) (stored 0%)
  adding: libs/i386/ (256 bytes security) (stored 0%)
  adding: libs/i386/biovizBase.dll (188 bytes security) (deflated 57%)
  adding: libs/x64/ (256 bytes security) (stored 0%)
  adding: libs/x64/biovizBase.dll (188 bytes security) (deflated 59%)
  adding: MD5 (188 bytes security) (deflated 45%)
  adding: Meta/ (256 bytes security) (stored 0%)
  adding: Meta/data.rds (188 bytes security) (stored 0%)
  adding: Meta/hsearch.rds (188 bytes security) (stored 0%)
  adding: Meta/links.rds (188 bytes security) (stored 0%)
  adding: Meta/nsInfo.rds (188 bytes security) (stored 0%)
  adding: Meta/package.rds (188 bytes security) (stored 0%)
  adding: Meta/Rd.rds (188 bytes security) (stored 0%)
  adding: Meta/vignette.rds (188 bytes security) (stored 0%)
  adding: NAMESPACE (188 bytes security) (deflated 67%)
  adding: NEWS (188 bytes security) (deflated 46%)
  adding: R/ (256 bytes security) (stored 0%)
  adding: R/biovizBase (188 bytes security) (deflated 41%)
  adding: R/biovizBase.rdb (188 bytes security) (deflated 37%)
  adding: R/biovizBase.rdx (188 bytes security) (stored 0%)