| baySeq 1.18.0 Thomas J. Hardcastle
 
 | Snapshot Date: 2014-10-07 17:20:37 -0700 (Tue, 07 Oct 2014) |  | URL: https://hedgehog.fhcrc.org/bioconductor/branches/RELEASE_2_14/madman/Rpacks/baySeq |  | Last Changed Rev: 88838 / Revision: 95116 |  | Last Changed Date: 2014-04-11 14:07:21 -0700 (Fri, 11 Apr 2014) | 
 | zin2 | Linux (Ubuntu 12.04.4 LTS) / x86_64 | OK | OK | OK |  | 
| moscato2 | Windows Server 2008 R2 Enterprise SP1 (64-bit) / x64 | OK | OK | OK | [ OK ] | 
| petty | Mac OS X Snow Leopard (10.6.8) / x86_64 | OK | OK | OK | OK | 
| morelia | Mac OS X Mavericks (10.9.5) / x86_64 | OK | OK | OK | OK | 
##############################################################################
##############################################################################
###
### Running command:
###
###   cd baySeq.buildbin-libdir/baySeq && zip -r ../../baySeq_1.18.0.zip . & cd ../..
###
##############################################################################
##############################################################################
  adding: data/ (256 bytes security) (stored 0%)
  adding: data/CDPost.RData (188 bytes security) (deflated 0%)
  adding: data/CDPriors.RData (188 bytes security) (deflated 0%)
  adding: data/mobAnnotation.RData (188 bytes security) (deflated 0%)
  adding: data/mobData.RData (188 bytes security) (deflated 0%)
  adding: data/pairData.RData (188 bytes security) (deflated 1%)
  adding: data/simData.RData (188 bytes security) (deflated 1%)
  adding: DESCRIPTION (188 bytes security) (deflated 43%)
  adding: doc/ (256 bytes security) (stored 0%)
  adding: doc/baySeq.pdf (188 bytes security) (deflated 9%)
  adding: doc/baySeq.R (188 bytes security) (deflated 86%)
  adding: doc/baySeq.Rnw (188 bytes security) (deflated 70%)
  adding: doc/index.html (188 bytes security) (deflated 56%)
  adding: help/ (256 bytes security) (stored 0%)
  adding: help/aliases.rds (188 bytes security) (stored 0%)
  adding: help/AnIndex (188 bytes security) (deflated 78%)
  adding: help/baySeq.rdb (188 bytes security) (deflated 1%)
  adding: help/baySeq.rdx (188 bytes security) (stored 0%)
  adding: help/paths.rds (188 bytes security) (stored 0%)
  adding: html/ (256 bytes security) (stored 0%)
  adding: html/00Index.html (188 bytes security) (deflated 79%)
  adding: html/R.css (188 bytes security) (deflated 70%)
  adding: INDEX (188 bytes security) (deflated 69%)
  adding: MD5 (188 bytes security) (deflated 43%)
  adding: Meta/ (256 bytes security) (stored 0%)
  adding: Meta/data.rds (188 bytes security) (stored 0%)
  adding: Meta/hsearch.rds (188 bytes security) (stored 0%)
  adding: Meta/links.rds (188 bytes security) (stored 0%)
  adding: Meta/nsInfo.rds (188 bytes security) (stored 0%)
  adding: Meta/package.rds (188 bytes security) (stored 0%)
  adding: Meta/Rd.rds (188 bytes security) (stored 0%)
  adding: Meta/vignette.rds (188 bytes security) (stored 0%)
  adding: NAMESPACE (188 bytes security) (deflated 15%)
  adding: R/ (256 bytes security) (stored 0%)
  adding: R/baySeq (188 bytes security) (deflated 41%)
  adding: R/baySeq.rdb (188 bytes security) (deflated 19%)
  adding: R/baySeq.rdx (188 bytes security) (stored 0%)