| a4Base 1.12.0 Tobias Verbeke , Willem Ligtenberg
 
 | Snapshot Date: 2014-10-07 17:20:37 -0700 (Tue, 07 Oct 2014) |  | URL: https://hedgehog.fhcrc.org/bioconductor/branches/RELEASE_2_14/madman/Rpacks/a4Base |  | Last Changed Rev: 88838 / Revision: 95116 |  | Last Changed Date: 2014-04-11 14:07:21 -0700 (Fri, 11 Apr 2014) | 
 | zin2 | Linux (Ubuntu 12.04.4 LTS) / x86_64 | OK | OK | [ OK ] |  | 
| moscato2 | Windows Server 2008 R2 Enterprise SP1 (64-bit) / x64 | OK | OK | OK | OK | 
| petty | Mac OS X Snow Leopard (10.6.8) / x86_64 | OK | OK | OK | OK | 
| morelia | Mac OS X Mavericks (10.9.5) / x86_64 | OK | OK | OK | OK | 
##############################################################################
##############################################################################
###
### Running command:
###
###   /home/biocbuild/bbs-2.14-bioc/R/bin/R CMD check --no-vignettes --timings a4Base_1.12.0.tar.gz
###
##############################################################################
##############################################################################
* using log directory ‘/home/biocbuild/bbs-2.14-bioc/meat/a4Base.Rcheck’
* using R version 3.1.1 (2014-07-10)
* using platform: x86_64-unknown-linux-gnu (64-bit)
* using session charset: UTF-8
* using option ‘--no-vignettes’
* checking for file ‘a4Base/DESCRIPTION’ ... OK
* checking extension type ... Package
* this is package ‘a4Base’ version ‘1.12.0’
* checking package namespace information ... OK
* checking package dependencies ... NOTE
Package which this enhances but not available for checking: ‘JavaGD’
Depends: includes the non-default packages:
  ‘grid’ ‘Biobase’ ‘AnnotationDbi’ ‘annaffy’ ‘mpm’ ‘genefilter’ ‘limma’
  ‘multtest’ ‘glmnet’ ‘a4Preproc’ ‘a4Core’ ‘gplots’
Adding so many packages to the search path is excessive and importing
selectively is preferable.
* checking if this is a source package ... OK
* checking if there is a namespace ... OK
* checking for hidden files and directories ... OK
* checking for portable file names ... OK
* checking for sufficient/correct file permissions ... OK
* checking whether package ‘a4Base’ can be installed ... [17s/17s] OK
* checking installed package size ... OK
* checking package directory ... OK
* checking DESCRIPTION meta-information ... OK
* checking top-level files ... OK
* checking for left-over files ... OK
* checking index information ... OK
* checking package subdirectories ... OK
* checking R files for non-ASCII characters ... OK
* checking R files for syntax errors ... OK
* checking whether the package can be loaded ... OK
* checking whether the package can be loaded with stated dependencies ... OK
* checking whether the package can be unloaded cleanly ... OK
* checking whether the namespace can be loaded with stated dependencies ... OK
* checking whether the namespace can be unloaded cleanly ... OK
* checking dependencies in R code ... NOTE
'library' or 'require' calls to packages already attached by Depends:
  ‘Biobase’ ‘grid’
  Please remove these calls from your code.
Packages in Depends field not imported from:
  ‘AnnotationDbi’ ‘a4Preproc’ ‘annaffy’ ‘genefilter’ ‘glmnet’ ‘gplots’
  ‘mpm’ ‘multtest’
  These packages need to be imported from (in the NAMESPACE file)
  for when this namespace is loaded but not attached.
See the information on DESCRIPTION files in the chapter ‘Creating R
packages’ of the ‘Writing R Extensions’ manual.
* checking S3 generic/method consistency ... OK
* checking replacement functions ... OK
* checking foreign function calls ... OK
* checking R code for possible problems ... NOTE
plotLogRatio: no visible global function definition for ‘JavaGD’
plotLogRatio: no visible global function definition for ‘grid.garnish’
plotLogRatio: no visible global function definition for
  ‘grid.hyperlink’
plotLogRatio: no visible global function definition for ‘grid.script’
plotLogRatio: no visible global function definition for ‘gridToSVG’
* checking Rd files ... OK
* checking Rd metadata ... OK
* checking Rd cross-references ... OK
* checking for missing documentation entries ... OK
* checking for code/documentation mismatches ... OK
* checking Rd \usage sections ... OK
* checking Rd contents ... OK
* checking for unstated dependencies in examples ... OK
* checking contents of ‘data’ directory ... OK
* checking data for non-ASCII characters ... OK
* checking data for ASCII and uncompressed saves ... OK
* checking examples ... [91s/92s] OK
Examples with CPU or elapsed time > 5s
                  user system elapsed
spectralMap     15.357  0.192  15.637
computeLogRatio 13.833  0.120  14.185
plotLogRatio    13.245  0.136  13.609
* checking PDF version of manual ... OK
NOTE: There were 3 notes.
See
  ‘/home/biocbuild/bbs-2.14-bioc/meat/a4Base.Rcheck/00check.log’
for details.