| VariantFiltering 1.0.4 Robert Castelo
 
 | Snapshot Date: 2014-10-07 17:20:37 -0700 (Tue, 07 Oct 2014) |  | URL: https://hedgehog.fhcrc.org/bioconductor/branches/RELEASE_2_14/madman/Rpacks/VariantFiltering |  | Last Changed Rev: 91489 / Revision: 95116 |  | Last Changed Date: 2014-06-16 14:56:15 -0700 (Mon, 16 Jun 2014) | 
 | zin2 | Linux (Ubuntu 12.04.4 LTS) / x86_64 | OK | OK | OK |  | 
| moscato2 | Windows Server 2008 R2 Enterprise SP1 (64-bit) / x64 | OK | OK | OK | [ OK ] | 
| petty | Mac OS X Snow Leopard (10.6.8) / x86_64 | OK | OK | OK | OK | 
| morelia | Mac OS X Mavericks (10.9.5) / x86_64 | OK | OK | OK | OK | 
##############################################################################
##############################################################################
###
### Running command:
###
###   cd VariantFiltering.buildbin-libdir/VariantFiltering && zip -r ../../VariantFiltering_1.0.4.zip . & cd ../..
###
##############################################################################
##############################################################################
  adding: CITATION (188 bytes security) (deflated 52%)
  adding: DESCRIPTION (188 bytes security) (deflated 44%)
  adding: doc/ (256 bytes security) (stored 0%)
  adding: doc/index.html (188 bytes security) (deflated 60%)
  adding: doc/usingVariantFiltering.pdf (188 bytes security) (deflated 9%)
  adding: doc/usingVariantFiltering.R (188 bytes security) (deflated 79%)
  adding: doc/usingVariantFiltering.Rnw (188 bytes security) (deflated 63%)
  adding: extdata/ (256 bytes security) (stored 0%)
  adding: extdata/AA_chemical_properties_HanadaGojoboriLi2006.tsv (188 bytes security) (deflated 72%)
  adding: extdata/CEUtrio.ped (188 bytes security) (deflated 49%)
  adding: extdata/CEUtrio.vcf.bgz (188 bytes security) (deflated 0%)
  adding: extdata/CEUtrio.vcf.bgz.tbi (188 bytes security) (deflated 3%)
  adding: extdata/hsap.acceptors.hcmc10_15_1.ibn (188 bytes security) (deflated 61%)
  adding: extdata/hsap.donors.hcmc10_15_1.ibn (188 bytes security) (deflated 70%)
  adding: extdata/humanEnsGenePhylostrata.rda (188 bytes security) (deflated 2%)
  adding: extdata/README_humanGenesPhylostrata (188 bytes security) (deflated 63%)
  adding: help/ (256 bytes security) (stored 0%)
  adding: help/aliases.rds (188 bytes security) (stored 0%)
  adding: help/AnIndex (188 bytes security) (deflated 88%)
  adding: help/paths.rds (188 bytes security) (stored 0%)
  adding: help/VariantFiltering.rdb (188 bytes security) (deflated 1%)
  adding: help/VariantFiltering.rdx (188 bytes security) (stored 0%)
  adding: html/ (256 bytes security) (stored 0%)
  adding: html/00Index.html (188 bytes security) (deflated 90%)
  adding: html/R.css (188 bytes security) (deflated 70%)
  adding: INDEX (188 bytes security) (deflated 70%)
  adding: libs/ (256 bytes security) (stored 0%)
  adding: libs/i386/ (256 bytes security) (stored 0%)
  adding: libs/i386/VariantFiltering.dll (188 bytes security) (deflated 54%)
  adding: libs/x64/ (256 bytes security) (stored 0%)
  adding: libs/x64/VariantFiltering.dll (188 bytes security) (deflated 55%)
  adding: MD5 (188 bytes security) (deflated 45%)
  adding: Meta/ (256 bytes security) (stored 0%)
  adding: Meta/hsearch.rds (188 bytes security) (stored 0%)
  adding: Meta/links.rds (188 bytes security) (stored 0%)
  adding: Meta/nsInfo.rds (188 bytes security) (stored 0%)
  adding: Meta/package.rds (188 bytes security) (stored 0%)
  adding: Meta/Rd.rds (188 bytes security) (stored 0%)
  adding: Meta/vignette.rds (188 bytes security) (stored 0%)
  adding: NAMESPACE (188 bytes security) (deflated 76%)
  adding: NEWS (188 bytes security) (deflated 23%)
  adding: R/ (256 bytes security) (stored 0%)
  adding: R/VariantFiltering (188 bytes security) (deflated 41%)
  adding: R/VariantFiltering.rdb (188 bytes security) (deflated 43%)
  adding: R/VariantFiltering.rdx (188 bytes security) (deflated 5%)