| Back to the "Multiple platform build/check report" | A B C D E F G H I J K L M N O P Q R [S] T U V W X Y Z |
This page was generated on 2014-02-12 09:48:10 -0800 (Wed, 12 Feb 2014).
| Package 673/772 | Hostname | OS / Arch | BUILD | CHECK | BUILD BIN | ||||
| Seqnames 0.99.10 Sonali Arora
| zin2 | Linux (Ubuntu 12.04.4 LTS) / x86_64 | OK | OK | |||||
| moscato2 | Windows Server 2008 R2 Enterprise SP1 (64-bit) / x64 | OK | ERROR | [ ERROR ] | |||||
| petty | Mac OS X Snow Leopard (10.6.8) / x86_64 | OK | OK | OK |
| Package: Seqnames |
| Version: 0.99.10 |
| Command: cd Seqnames.Rcheck/Seqnames && zip -r ../../Seqnames_0.99.10.zip . & cd ../.. |
| StartedAt: 2014-02-12 04:06:44 -0800 (Wed, 12 Feb 2014) |
| EndedAt: 2014-02-12 04:07:01 -0800 (Wed, 12 Feb 2014) |
| EllapsedTime: 17.2 seconds |
| RetCode: 0 |
| Status: ERROR |
| PackageFile: None |
| PackageFileSize: NA |
The system cannot find the path specified.