| SNPchip 2.10.0 Robert Scharpf
 
 | Snapshot Date: 2014-10-07 17:20:37 -0700 (Tue, 07 Oct 2014) |  | URL: https://hedgehog.fhcrc.org/bioconductor/branches/RELEASE_2_14/madman/Rpacks/SNPchip |  | Last Changed Rev: 88838 / Revision: 95116 |  | Last Changed Date: 2014-04-11 14:07:21 -0700 (Fri, 11 Apr 2014) | 
 | zin2 | Linux (Ubuntu 12.04.4 LTS) / x86_64 | OK | OK | OK |  | 
| moscato2 | Windows Server 2008 R2 Enterprise SP1 (64-bit) / x64 | OK | OK | OK | [ OK ] | 
| petty | Mac OS X Snow Leopard (10.6.8) / x86_64 | OK | OK | OK | OK | 
| morelia | Mac OS X Mavericks (10.9.5) / x86_64 | OK | OK | OK | OK | 
##############################################################################
##############################################################################
###
### Running command:
###
###   cd SNPchip.buildbin-libdir/SNPchip && zip -r ../../SNPchip_2.10.0.zip . & cd ../..
###
##############################################################################
##############################################################################
  adding: CITATION (188 bytes security) (deflated 40%)
  adding: DESCRIPTION (188 bytes security) (deflated 41%)
  adding: doc/ (256 bytes security) (stored 0%)
  adding: doc/index.html (188 bytes security) (deflated 58%)
  adding: doc/PlottingIdiograms.pdf (188 bytes security) (deflated 14%)
  adding: doc/PlottingIdiograms.R (188 bytes security) (deflated 70%)
  adding: doc/PlottingIdiograms.Rnw (188 bytes security) (deflated 59%)
  adding: extdata/ (256 bytes security) (stored 0%)
  adding: extdata/cytoBand_hg18.txt (188 bytes security) (deflated 80%)
  adding: extdata/cytoBand_hg19.txt (188 bytes security) (deflated 80%)
  adding: extdata/gap_hg18.rda (188 bytes security) (stored 0%)
  adding: extdata/gap_hg19.rda (188 bytes security) (stored 0%)
  adding: help/ (256 bytes security) (stored 0%)
  adding: help/aliases.rds (188 bytes security) (stored 0%)
  adding: help/AnIndex (188 bytes security) (deflated 62%)
  adding: help/paths.rds (188 bytes security) (stored 0%)
  adding: help/SNPchip.rdb (188 bytes security) (deflated 1%)
  adding: help/SNPchip.rdx (188 bytes security) (stored 0%)
  adding: hg18/ (256 bytes security) (stored 0%)
  adding: html/ (256 bytes security) (stored 0%)
  adding: html/00Index.html (188 bytes security) (deflated 69%)
  adding: html/R.css (188 bytes security) (deflated 70%)
  adding: INDEX (188 bytes security) (deflated 65%)
  adding: MD5 (188 bytes security) (deflated 43%)
  adding: Meta/ (256 bytes security) (stored 0%)
  adding: Meta/hsearch.rds (188 bytes security) (stored 0%)
  adding: Meta/links.rds (188 bytes security) (stored 0%)
  adding: Meta/nsInfo.rds (188 bytes security) (stored 0%)
  adding: Meta/package.rds (188 bytes security) (stored 0%)
  adding: Meta/Rd.rds (188 bytes security) (stored 0%)
  adding: Meta/vignette.rds (188 bytes security) (stored 0%)
  adding: NAMESPACE (188 bytes security) (deflated 53%)
  adding: R/ (256 bytes security) (stored 0%)
  adding: R/SNPchip (188 bytes security) (deflated 41%)
  adding: R/SNPchip.rdb (188 bytes security) (deflated 38%)
  adding: R/SNPchip.rdx (188 bytes security) (stored 0%)
  adding: unitTests/ (256 bytes security) (stored 0%)
  adding: unitTests/Makefile (188 bytes security) (deflated 62%)
  adding: unitTests/report.html (188 bytes security) (deflated 64%)
  adding: unitTests/report.txt (188 bytes security) (deflated 55%)
  adding: unitTests/reportSummary.txt (188 bytes security) (deflated 42%)
  adding: unitTests/test_xyplot.R (188 bytes security) (deflated 58%)