| Rdisop 1.24.1 Steffen Neumann
 
 | Snapshot Date: 2014-10-07 17:20:37 -0700 (Tue, 07 Oct 2014) |  | URL: https://hedgehog.fhcrc.org/bioconductor/branches/RELEASE_2_14/madman/Rpacks/Rdisop |  | Last Changed Rev: 89375 / Revision: 95116 |  | Last Changed Date: 2014-04-22 17:24:00 -0700 (Tue, 22 Apr 2014) | 
 | zin2 | Linux (Ubuntu 12.04.4 LTS) / x86_64 | OK | OK | OK |  | 
| moscato2 | Windows Server 2008 R2 Enterprise SP1 (64-bit) / x64 | OK | OK | OK | [ OK ] | 
| petty | Mac OS X Snow Leopard (10.6.8) / x86_64 | ERROR | ERROR | skipped | skipped | 
| morelia | Mac OS X Mavericks (10.9.5) / x86_64 | OK | OK | OK | OK | 
##############################################################################
##############################################################################
###
### Running command:
###
###   cd Rdisop.buildbin-libdir/Rdisop && zip -r ../../Rdisop_1.24.1.zip . & cd ../..
###
##############################################################################
##############################################################################
  adding: CITATION (188 bytes security) (deflated 69%)
  adding: DESCRIPTION (188 bytes security) (deflated 40%)
  adding: doc/ (256 bytes security) (stored 0%)
  adding: doc/index.html (188 bytes security) (deflated 56%)
  adding: doc/Rdisop.pdf (188 bytes security) (deflated 10%)
  adding: doc/Rdisop.R (188 bytes security) (deflated 72%)
  adding: doc/Rdisop.Rnw (188 bytes security) (deflated 57%)
  adding: help/ (256 bytes security) (stored 0%)
  adding: help/aliases.rds (188 bytes security) (stored 0%)
  adding: help/AnIndex (188 bytes security) (deflated 69%)
  adding: help/paths.rds (188 bytes security) (stored 0%)
  adding: help/Rdisop.rdb (188 bytes security) (deflated 0%)
  adding: help/Rdisop.rdx (188 bytes security) (stored 0%)
  adding: html/ (256 bytes security) (stored 0%)
  adding: html/00Index.html (188 bytes security) (deflated 78%)
  adding: html/R.css (188 bytes security) (deflated 70%)
  adding: INDEX (188 bytes security) (deflated 48%)
  adding: libs/ (256 bytes security) (stored 0%)
  adding: libs/i386/ (256 bytes security) (stored 0%)
  adding: libs/i386/Rdisop.dll (188 bytes security) (deflated 63%)
  adding: libs/x64/ (256 bytes security) (stored 0%)
  adding: libs/x64/Rdisop.dll (188 bytes security) (deflated 67%)
  adding: MD5 (188 bytes security) (deflated 43%)
  adding: Meta/ (256 bytes security) (stored 0%)
  adding: Meta/hsearch.rds (188 bytes security) (stored 0%)
  adding: Meta/links.rds (188 bytes security) (stored 0%)
  adding: Meta/nsInfo.rds (188 bytes security) (stored 0%)
  adding: Meta/package.rds (188 bytes security) (stored 0%)
  adding: Meta/Rd.rds (188 bytes security) (stored 0%)
  adding: Meta/vignette.rds (188 bytes security) (stored 0%)
  adding: NAMESPACE (188 bytes security) (deflated 45%)
  adding: R/ (256 bytes security) (stored 0%)
  adding: R/Rdisop (188 bytes security) (deflated 41%)
  adding: R/Rdisop.rdb (188 bytes security) (deflated 5%)
  adding: R/Rdisop.rdx (188 bytes security) (stored 0%)
  adding: unitTests/ (256 bytes security) (stored 0%)
  adding: unitTests/Makefile (188 bytes security) (deflated 27%)
  adding: unitTests/report.html (188 bytes security) (deflated 77%)
  adding: unitTests/report.txt (188 bytes security) (deflated 72%)
  adding: unitTests/reportSummary.txt (188 bytes security) (deflated 43%)
  adding: unitTests/runit.addsub.R (188 bytes security) (deflated 59%)
  adding: unitTests/runit.keggexamples.R (188 bytes security) (deflated 45%)
  adding: unitTests/runit.limits.R (188 bytes security) (deflated 57%)
  adding: unitTests/runit.monoisotopic.R (188 bytes security) (deflated 21%)