| PWMEnrich 3.6.1 Robert Stojnic
 
 | Snapshot Date: 2014-10-07 17:20:37 -0700 (Tue, 07 Oct 2014) |  | URL: https://hedgehog.fhcrc.org/bioconductor/branches/RELEASE_2_14/madman/Rpacks/PWMEnrich |  | Last Changed Rev: 92141 / Revision: 95116 |  | Last Changed Date: 2014-07-03 08:13:42 -0700 (Thu, 03 Jul 2014) | 
 | zin2 | Linux (Ubuntu 12.04.4 LTS) / x86_64 | OK | [ OK ] | OK |  | 
| moscato2 | Windows Server 2008 R2 Enterprise SP1 (64-bit) / x64 | OK | OK | OK | OK | 
| petty | Mac OS X Snow Leopard (10.6.8) / x86_64 | OK | OK | OK | OK | 
| morelia | Mac OS X Mavericks (10.9.5) / x86_64 | OK | OK | OK | OK | 
##############################################################################
##############################################################################
###
### Running command:
###
###   /home/biocbuild/bbs-2.14-bioc/R/bin/R CMD build --keep-empty-dirs --no-resave-data PWMEnrich
###
##############################################################################
##############################################################################
* checking for file ‘PWMEnrich/DESCRIPTION’ ... OK
* preparing ‘PWMEnrich’:
* checking DESCRIPTION meta-information ... OK
* installing the package to build vignettes
* creating vignettes ... OK
* checking for LF line-endings in source and make files
* checking for empty or unneeded directories
* building ‘PWMEnrich_3.6.1.tar.gz’