| Mulcom 1.14.1 Claudio Isella
 
 | Snapshot Date: 2014-10-07 17:20:37 -0700 (Tue, 07 Oct 2014) |  | URL: https://hedgehog.fhcrc.org/bioconductor/branches/RELEASE_2_14/madman/Rpacks/Mulcom |  | Last Changed Rev: 92668 / Revision: 95116 |  | Last Changed Date: 2014-07-21 00:54:21 -0700 (Mon, 21 Jul 2014) | 
 | zin2 | Linux (Ubuntu 12.04.4 LTS) / x86_64 | OK | OK | OK |  | 
| moscato2 | Windows Server 2008 R2 Enterprise SP1 (64-bit) / x64 | OK | OK | OK | [ OK ] | 
| petty | Mac OS X Snow Leopard (10.6.8) / x86_64 | OK | OK | OK | OK | 
| morelia | Mac OS X Mavericks (10.9.5) / x86_64 | OK | OK | OK | OK | 
##############################################################################
##############################################################################
###
### Running command:
###
###   cd Mulcom.buildbin-libdir/Mulcom && zip -r ../../Mulcom_1.14.1.zip . & cd ../..
###
##############################################################################
##############################################################################
  adding: data/ (256 bytes security) (stored 0%)
  adding: data/benchVign.rda (188 bytes security) (deflated 0%)
  adding: data/datalist (188 bytes security) (deflated 33%)
  adding: data/others.rda (188 bytes security) (stored 0%)
  adding: DESCRIPTION (188 bytes security) (deflated 37%)
  adding: doc/ (256 bytes security) (stored 0%)
  adding: doc/index.html (188 bytes security) (deflated 58%)
  adding: doc/MulcomVignette.pdf (188 bytes security) (deflated 6%)
  adding: doc/MulcomVignette.R (188 bytes security) (deflated 83%)
  adding: doc/MulcomVignette.Rnw (188 bytes security) (deflated 66%)
  adding: help/ (256 bytes security) (stored 0%)
  adding: help/aliases.rds (188 bytes security) (stored 0%)
  adding: help/AnIndex (188 bytes security) (deflated 64%)
  adding: help/Mulcom.rdb (188 bytes security) (deflated 3%)
  adding: help/Mulcom.rdx (188 bytes security) (stored 0%)
  adding: help/paths.rds (188 bytes security) (stored 0%)
  adding: html/ (256 bytes security) (stored 0%)
  adding: html/00Index.html (188 bytes security) (deflated 75%)
  adding: html/R.css (188 bytes security) (deflated 70%)
  adding: INDEX (188 bytes security) (deflated 69%)
  adding: libs/ (256 bytes security) (stored 0%)
  adding: libs/i386/ (256 bytes security) (stored 0%)
  adding: libs/i386/Mulcom.dll (188 bytes security) (deflated 64%)
  adding: libs/x64/ (256 bytes security) (stored 0%)
  adding: libs/x64/Mulcom.dll (188 bytes security) (deflated 69%)
  adding: MD5 (188 bytes security) (deflated 43%)
  adding: Meta/ (256 bytes security) (stored 0%)
  adding: Meta/data.rds (188 bytes security) (stored 0%)
  adding: Meta/hsearch.rds (188 bytes security) (stored 0%)
  adding: Meta/links.rds (188 bytes security) (stored 0%)
  adding: Meta/nsInfo.rds (188 bytes security) (stored 0%)
  adding: Meta/package.rds (188 bytes security) (stored 0%)
  adding: Meta/Rd.rds (188 bytes security) (stored 0%)
  adding: Meta/vignette.rds (188 bytes security) (stored 0%)
  adding: NAMESPACE (188 bytes security) (deflated 44%)
  adding: NEWS (188 bytes security) (deflated 20%)
  adding: R/ (256 bytes security) (stored 0%)
  adding: R/Mulcom (188 bytes security) (deflated 41%)
  adding: R/Mulcom.rdb (188 bytes security) (deflated 2%)
  adding: R/Mulcom.rdx (188 bytes security) (stored 0%)