GenomicRanges 1.16.4 Bioconductor Package Maintainer
 | Snapshot Date: 2014-10-07 17:20:37 -0700 (Tue, 07 Oct 2014) |  | URL: https://hedgehog.fhcrc.org/bioconductor/branches/RELEASE_2_14/madman/Rpacks/GenomicRanges |  | Last Changed Rev: 93112 / Revision: 95116 |  | Last Changed Date: 2014-07-31 21:25:31 -0700 (Thu, 31 Jul 2014) |  
  | zin2  | Linux (Ubuntu 12.04.4 LTS) / x86_64  |  OK  |  OK  |  WARNINGS  |  | 
| moscato2  | Windows Server 2008 R2 Enterprise SP1 (64-bit) / x64  |  OK  |  OK  |  WARNINGS  | [ OK ] | 
| petty  | Mac OS X Snow Leopard (10.6.8) / x86_64  |  OK  |  OK  |  WARNINGS  |  OK  | 
| morelia  | Mac OS X Mavericks (10.9.5) / x86_64  |  OK  |  OK  |  WARNINGS  |  OK  | 
##############################################################################
##############################################################################
###
### Running command:
###
###   cd GenomicRanges.buildbin-libdir/GenomicRanges && zip -r ../../GenomicRanges_1.16.4.zip . & cd ../..
###
##############################################################################
##############################################################################
  adding: CITATION (188 bytes security) (deflated 56%)
  adding: DESCRIPTION (188 bytes security) (deflated 53%)
  adding: doc/ (256 bytes security) (stored 0%)
  adding: doc/GenomicRangesHOWTOs.pdf (188 bytes security) (deflated 22%)
  adding: doc/GenomicRangesHOWTOs.R (188 bytes security) (deflated 83%)
  adding: doc/GenomicRangesHOWTOs.Rnw (188 bytes security) (deflated 71%)
  adding: doc/GenomicRangesIntroduction.pdf (188 bytes security) (deflated 11%)
  adding: doc/GenomicRangesIntroduction.R (188 bytes security) (deflated 83%)
  adding: doc/GenomicRangesIntroduction.Rnw (188 bytes security) (deflated 66%)
  adding: doc/index.html (188 bytes security) (deflated 69%)
  adding: extdata/ (256 bytes security) (stored 0%)
  adding: extdata/feature_frags.txt (188 bytes security) (deflated 33%)
  adding: help/ (256 bytes security) (stored 0%)
  adding: help/aliases.rds (188 bytes security) (stored 0%)
  adding: help/AnIndex (188 bytes security) (deflated 89%)
  adding: help/GenomicRanges.rdb (188 bytes security) (deflated 1%)
  adding: help/GenomicRanges.rdx (188 bytes security) (stored 0%)
  adding: help/paths.rds (188 bytes security) (stored 0%)
  adding: html/ (256 bytes security) (stored 0%)
  adding: html/00Index.html (188 bytes security) (deflated 92%)
  adding: html/R.css (188 bytes security) (deflated 70%)
  adding: INDEX (188 bytes security) (deflated 67%)
  adding: libs/ (256 bytes security) (stored 0%)
  adding: libs/i386/ (256 bytes security) (stored 0%)
  adding: libs/i386/GenomicRanges.dll (188 bytes security) (deflated 66%)
  adding: libs/x64/ (256 bytes security) (stored 0%)
  adding: libs/x64/GenomicRanges.dll (188 bytes security) (deflated 66%)
  adding: MD5 (188 bytes security) (deflated 49%)
  adding: Meta/ (256 bytes security) (stored 0%)
  adding: Meta/hsearch.rds (188 bytes security) (stored 0%)
  adding: Meta/links.rds (188 bytes security) (stored 0%)
  adding: Meta/nsInfo.rds (188 bytes security) (stored 0%)
  adding: Meta/package.rds (188 bytes security) (stored 0%)
  adding: Meta/Rd.rds (188 bytes security) (stored 0%)
  adding: Meta/vignette.rds (188 bytes security) (stored 0%)
  adding: NAMESPACE (188 bytes security) (deflated 68%)
  adding: NEWS (188 bytes security) (deflated 69%)
  adding: R/ (256 bytes security) (stored 0%)
  adding: R/GenomicRanges (188 bytes security) (deflated 41%)
  adding: R/GenomicRanges.rdb (188 bytes security) (deflated 33%)
  adding: R/GenomicRanges.rdx (188 bytes security) (deflated 4%)
  adding: unitTests/ (256 bytes security) (stored 0%)
  adding: unitTests/test_coverage-methods.R (188 bytes security) (deflated 82%)
  adding: unitTests/test_findOverlaps-methods.R (188 bytes security) (deflated 88%)
  adding: unitTests/test_GIntervalTree-class.R (188 bytes security) (deflated 80%)
  adding: unitTests/test_GIntervalTree_findOverlaps.R (188 bytes security) (deflated 88%)
  adding: unitTests/test_GRanges-class.R (188 bytes security) (deflated 84%)
  adding: unitTests/test_GRangesList-class.R (188 bytes security) (deflated 79%)
  adding: unitTests/test_inter-range-methods.R (188 bytes security) (deflated 74%)
  adding: unitTests/test_intra-range-methods.R (188 bytes security) (deflated 78%)
  adding: unitTests/test_nearest-methods.R (188 bytes security) (deflated 85%)
  adding: unitTests/test_Seqinfo-class.R (188 bytes security) (deflated 76%)
  adding: unitTests/test_setops-methods.R (188 bytes security) (deflated 83%)
  adding: unitTests/test_SummarizedExperiment-class.R (188 bytes security) (deflated 80%)
  adding: unitTests/test_SummarizedExperiment-rowData-methods.R (188 bytes security) (deflated 67%)
  adding: unitTests/test_utils.R (188 bytes security) (deflated 74%)