| GenomicAlignments 1.0.6 Bioconductor Package Maintainer
 
 | Snapshot Date: 2014-10-07 17:20:37 -0700 (Tue, 07 Oct 2014) |  | URL: https://hedgehog.fhcrc.org/bioconductor/branches/RELEASE_2_14/madman/Rpacks/GenomicAlignments |  | Last Changed Rev: 93517 / Revision: 95116 |  | Last Changed Date: 2014-08-21 16:04:36 -0700 (Thu, 21 Aug 2014) | 
 | zin2 | Linux (Ubuntu 12.04.4 LTS) / x86_64 | OK | OK | OK |  | 
| moscato2 | Windows Server 2008 R2 Enterprise SP1 (64-bit) / x64 | OK | OK | OK | [ OK ] | 
| petty | Mac OS X Snow Leopard (10.6.8) / x86_64 | OK | OK | OK | OK | 
| morelia | Mac OS X Mavericks (10.9.5) / x86_64 | OK | OK | OK | OK | 
##############################################################################
##############################################################################
###
### Running command:
###
###   cd GenomicAlignments.buildbin-libdir/GenomicAlignments && zip -r ../../GenomicAlignments_1.0.6.zip . & cd ../..
###
##############################################################################
##############################################################################
  adding: CITATION (188 bytes security) (deflated 56%)
  adding: DESCRIPTION (188 bytes security) (deflated 51%)
  adding: doc/ (256 bytes security) (stored 0%)
  adding: doc/index.html (188 bytes security) (deflated 74%)
  adding: doc/OverlapEncodings.pdf (188 bytes security) (deflated 18%)
  adding: doc/OverlapEncodings.R (188 bytes security) (deflated 85%)
  adding: doc/OverlapEncodings.Rnw (188 bytes security) (deflated 77%)
  adding: doc/summarizeOverlaps.pdf (188 bytes security) (deflated 10%)
  adding: doc/summarizeOverlaps.R (188 bytes security) (deflated 74%)
  adding: doc/summarizeOverlaps.Rnw (188 bytes security) (deflated 63%)
  adding: doc/WorkingWithAlignedNucleotides.pdf (188 bytes security) (deflated 10%)
  adding: doc/WorkingWithAlignedNucleotides.R (188 bytes security) (deflated 80%)
  adding: doc/WorkingWithAlignedNucleotides.Rnw (188 bytes security) (deflated 68%)
  adding: extdata/ (256 bytes security) (stored 0%)
  adding: extdata/sm_treated1.bam (188 bytes security) (deflated 0%)
  adding: extdata/sm_untreated1.bam (188 bytes security) (deflated 0%)
  adding: help/ (256 bytes security) (stored 0%)
  adding: help/aliases.rds (188 bytes security) (stored 0%)
  adding: help/AnIndex (188 bytes security) (deflated 89%)
  adding: help/GenomicAlignments.rdb (188 bytes security) (deflated 1%)
  adding: help/GenomicAlignments.rdx (188 bytes security) (stored 0%)
  adding: help/paths.rds (188 bytes security) (stored 0%)
  adding: html/ (256 bytes security) (stored 0%)
  adding: html/00Index.html (188 bytes security) (deflated 91%)
  adding: html/R.css (188 bytes security) (deflated 70%)
  adding: INDEX (188 bytes security) (deflated 68%)
  adding: libs/ (256 bytes security) (stored 0%)
  adding: libs/i386/ (256 bytes security) (stored 0%)
  adding: libs/i386/GenomicAlignments.dll (188 bytes security) (deflated 59%)
  adding: libs/x64/ (256 bytes security) (stored 0%)
  adding: libs/x64/GenomicAlignments.dll (188 bytes security) (deflated 58%)
  adding: MD5 (188 bytes security) (deflated 49%)
  adding: Meta/ (256 bytes security) (stored 0%)
  adding: Meta/hsearch.rds (188 bytes security) (stored 0%)
  adding: Meta/links.rds (188 bytes security) (deflated 0%)
  adding: Meta/nsInfo.rds (188 bytes security) (stored 0%)
  adding: Meta/package.rds (188 bytes security) (stored 0%)
  adding: Meta/Rd.rds (188 bytes security) (stored 0%)
  adding: Meta/vignette.rds (188 bytes security) (stored 0%)
  adding: NAMESPACE (188 bytes security) (deflated 72%)
  adding: NEWS.Rd (188 bytes security) (deflated 36%)
  adding: R/ (256 bytes security) (stored 0%)
  adding: R/GenomicAlignments (188 bytes security) (deflated 41%)
  adding: R/GenomicAlignments.rdb (188 bytes security) (deflated 36%)
  adding: R/GenomicAlignments.rdx (188 bytes security) (deflated 3%)
  adding: unitTests/ (256 bytes security) (stored 0%)
  adding: unitTests/test_cigar-utils.R (188 bytes security) (deflated 80%)
  adding: unitTests/test_findSpliceOverlaps-methods.R (188 bytes security) (deflated 87%)
  adding: unitTests/test_GAlignments-class.R (188 bytes security) (deflated 68%)
  adding: unitTests/test_GAlignmentsList-class.R (188 bytes security) (deflated 74%)
  adding: unitTests/test_intra-range-methods.R (188 bytes security) (deflated 67%)
  adding: unitTests/test_readGAlignmentPairsFromBam.R (188 bytes security) (deflated 74%)
  adding: unitTests/test_readGAlignmentsFromBam.R (188 bytes security) (deflated 72%)
  adding: unitTests/test_readGAlignmentsListFromBam.R (188 bytes security) (deflated 73%)
  adding: unitTests/test_summarizeOverlaps-methods.R (188 bytes security) (deflated 87%)