| DEXSeq 1.10.8 Alejandro Reyes
 
 | Snapshot Date: 2014-10-07 17:20:37 -0700 (Tue, 07 Oct 2014) |  | URL: https://hedgehog.fhcrc.org/bioconductor/branches/RELEASE_2_14/madman/Rpacks/DEXSeq |  | Last Changed Rev: 92125 / Revision: 95116 |  | Last Changed Date: 2014-07-03 01:45:51 -0700 (Thu, 03 Jul 2014) | 
 | zin2 | Linux (Ubuntu 12.04.4 LTS) / x86_64 | OK | OK | OK |  | 
| moscato2 | Windows Server 2008 R2 Enterprise SP1 (64-bit) / x64 | OK | OK | OK | [ OK ] | 
| petty | Mac OS X Snow Leopard (10.6.8) / x86_64 | OK | OK | OK | OK | 
| morelia | Mac OS X Mavericks (10.9.5) / x86_64 | OK | OK | OK | OK | 
##############################################################################
##############################################################################
###
### Running command:
###
###   cd DEXSeq.buildbin-libdir/DEXSeq && zip -r ../../DEXSeq_1.10.8.zip . & cd ../..
###
##############################################################################
##############################################################################
  adding: CITATION (188 bytes security) (deflated 55%)
  adding: DESCRIPTION (188 bytes security) (deflated 45%)
  adding: doc/ (256 bytes security) (stored 0%)
  adding: doc/DEXSeq.pdf (188 bytes security) (deflated 18%)
  adding: doc/DEXSeq.R (188 bytes security) (deflated 75%)
  adding: doc/DEXSeq.Rnw (188 bytes security) (deflated 66%)
  adding: doc/index.html (188 bytes security) (deflated 55%)
  adding: help/ (256 bytes security) (stored 0%)
  adding: help/aliases.rds (188 bytes security) (stored 0%)
  adding: help/AnIndex (188 bytes security) (deflated 83%)
  adding: help/DEXSeq.rdb (188 bytes security) (deflated 1%)
  adding: help/DEXSeq.rdx (188 bytes security) (stored 0%)
  adding: help/paths.rds (188 bytes security) (stored 0%)
  adding: html/ (256 bytes security) (stored 0%)
  adding: html/00Index.html (188 bytes security) (deflated 89%)
  adding: html/R.css (188 bytes security) (deflated 70%)
  adding: INDEX (188 bytes security) (deflated 64%)
  adding: MD5 (188 bytes security) (deflated 41%)
  adding: Meta/ (256 bytes security) (stored 0%)
  adding: Meta/hsearch.rds (188 bytes security) (stored 0%)
  adding: Meta/links.rds (188 bytes security) (stored 0%)
  adding: Meta/nsInfo.rds (188 bytes security) (stored 0%)
  adding: Meta/package.rds (188 bytes security) (stored 0%)
  adding: Meta/Rd.rds (188 bytes security) (stored 0%)
  adding: Meta/vignette.rds (188 bytes security) (stored 0%)
  adding: NAMESPACE (188 bytes security) (deflated 56%)
  adding: NEWS (188 bytes security) (deflated 51%)
  adding: python_scripts/ (256 bytes security) (stored 0%)
  adding: python_scripts/dexseq_count.py (188 bytes security) (deflated 69%)
  adding: python_scripts/dexseq_prepare_annotation.py (188 bytes security) (deflated 62%)
  adding: R/ (256 bytes security) (stored 0%)
  adding: R/DEXSeq (188 bytes security) (deflated 41%)
  adding: R/DEXSeq.rdb (188 bytes security) (deflated 25%)
  adding: R/DEXSeq.rdx (188 bytes security) (stored 0%)