| CellNOptR 1.10.0 T.Cokelaer
 
 | Snapshot Date: 2014-10-07 17:20:37 -0700 (Tue, 07 Oct 2014) |  | URL: https://hedgehog.fhcrc.org/bioconductor/branches/RELEASE_2_14/madman/Rpacks/CellNOptR |  | Last Changed Rev: 88838 / Revision: 95116 |  | Last Changed Date: 2014-04-11 14:07:21 -0700 (Fri, 11 Apr 2014) | 
 | zin2 | Linux (Ubuntu 12.04.4 LTS) / x86_64 | OK | OK | OK |  | 
| moscato2 | Windows Server 2008 R2 Enterprise SP1 (64-bit) / x64 | OK | OK | OK | [ OK ] | 
| petty | Mac OS X Snow Leopard (10.6.8) / x86_64 | OK | OK | OK | OK | 
| morelia | Mac OS X Mavericks (10.9.5) / x86_64 | OK | OK | OK | OK | 
##############################################################################
##############################################################################
###
### Running command:
###
###   cd CellNOptR.buildbin-libdir/CellNOptR && zip -r ../../CellNOptR_1.10.0.zip . & cd ../..
###
##############################################################################
##############################################################################
  adding: data/ (256 bytes security) (stored 0%)
  adding: data/CNOlistDREAM.RData (188 bytes security) (stored 0%)
  adding: data/CNOlistToy.RData (188 bytes security) (stored 0%)
  adding: data/CNOlistToy2.RData (188 bytes security) (stored 0%)
  adding: data/CNOlistToyMMB.RData (188 bytes security) (stored 0%)
  adding: data/DreamModel.RData (188 bytes security) (stored 0%)
  adding: data/ToyModel.RData (188 bytes security) (stored 0%)
  adding: data/ToyModel2.RData (188 bytes security) (stored 0%)
  adding: DESCRIPTION (188 bytes security) (deflated 39%)
  adding: doc/ (256 bytes security) (stored 0%)
  adding: doc/CellNOptR-vignette.pdf (188 bytes security) (deflated 13%)
  adding: doc/CellNOptR-vignette.R (188 bytes security) (deflated 83%)
  adding: doc/CellNOptR-vignette.Rnw (188 bytes security) (deflated 67%)
  adding: doc/index.html (188 bytes security) (deflated 58%)
  adding: DREAMmodel/ (256 bytes security) (stored 0%)
  adding: DREAMmodel/LiverDataDREAMMIDAS.csv (188 bytes security) (deflated 83%)
  adding: DREAMmodel/LiverPKNDREAM.sif (188 bytes security) (deflated 60%)
  adding: help/ (256 bytes security) (stored 0%)
  adding: help/aliases.rds (188 bytes security) (stored 0%)
  adding: help/AnIndex (188 bytes security) (deflated 76%)
  adding: help/CellNOptR.rdb (188 bytes security) (deflated 2%)
  adding: help/CellNOptR.rdx (188 bytes security) (stored 0%)
  adding: help/paths.rds (188 bytes security) (stored 0%)
  adding: html/ (256 bytes security) (stored 0%)
  adding: html/00Index.html (188 bytes security) (deflated 82%)
  adding: html/R.css (188 bytes security) (deflated 70%)
  adding: INDEX (188 bytes security) (deflated 69%)
  adding: libs/ (256 bytes security) (stored 0%)
  adding: libs/i386/ (256 bytes security) (stored 0%)
  adding: libs/i386/CellNOptR.dll (188 bytes security) (deflated 55%)
  adding: libs/x64/ (256 bytes security) (stored 0%)
  adding: libs/x64/CellNOptR.dll (188 bytes security) (deflated 51%)
  adding: MD5 (188 bytes security) (deflated 46%)
  adding: Meta/ (256 bytes security) (stored 0%)
  adding: Meta/data.rds (188 bytes security) (stored 0%)
  adding: Meta/hsearch.rds (188 bytes security) (stored 0%)
  adding: Meta/links.rds (188 bytes security) (stored 0%)
  adding: Meta/nsInfo.rds (188 bytes security) (stored 0%)
  adding: Meta/package.rds (188 bytes security) (stored 0%)
  adding: Meta/Rd.rds (188 bytes security) (stored 0%)
  adding: Meta/vignette.rds (188 bytes security) (stored 0%)
  adding: NAMESPACE (188 bytes security) (deflated 64%)
  adding: NEWS.Rd (188 bytes security) (deflated 67%)
  adding: R/ (256 bytes security) (stored 0%)
  adding: R/CellNOptR (188 bytes security) (deflated 41%)
  adding: R/CellNOptR.rdb (188 bytes security) (deflated 14%)
  adding: R/CellNOptR.rdx (188 bytes security) (stored 0%)
  adding: templates/ (256 bytes security) (stored 0%)
  adding: templates/bordercorner.jpg (188 bytes security) (stored 0%)
  adding: templates/bordercorner2.jpg (188 bytes security) (deflated 31%)
  adding: templates/CNOR.css (188 bytes security) (deflated 69%)
  adding: templates/logo_saezrodriguez_mid.gif (188 bytes security) (deflated 23%)
  adding: templates/phinou.jpeg (188 bytes security) (deflated 6%)
  adding: templates/Rlogo.png (188 bytes security) (deflated 0%)
  adding: ToyModel/ (256 bytes security) (stored 0%)
  adding: ToyModel/ToyDataMMB.csv (188 bytes security) (deflated 78%)
  adding: ToyModel/ToyModelMMB2.sif (188 bytes security) (deflated 39%)
  adding: ToyModel/ToyPKNMMB.sif (188 bytes security) (deflated 38%)
  adding: ToyModelT3/ (256 bytes security) (stored 0%)
  adding: ToyModelT3/ToyDataT3.csv (188 bytes security) (deflated 79%)
  adding: ToyModelT3/ToyModelT3.sif (188 bytes security) (deflated 48%)