| BioNet 1.24.1 Marcus Dittrich
 
 | Snapshot Date: 2014-10-07 17:20:37 -0700 (Tue, 07 Oct 2014) |  | URL: https://hedgehog.fhcrc.org/bioconductor/branches/RELEASE_2_14/madman/Rpacks/BioNet |  | Last Changed Rev: 93165 / Revision: 95116 |  | Last Changed Date: 2014-08-04 04:58:58 -0700 (Mon, 04 Aug 2014) | 
 | zin2 | Linux (Ubuntu 12.04.4 LTS) / x86_64 | OK | OK | OK |  | 
| moscato2 | Windows Server 2008 R2 Enterprise SP1 (64-bit) / x64 | OK | OK | OK | [ OK ] | 
| petty | Mac OS X Snow Leopard (10.6.8) / x86_64 | OK | OK | OK | OK | 
| morelia | Mac OS X Mavericks (10.9.5) / x86_64 | OK | OK | OK | OK | 
##############################################################################
##############################################################################
###
### Running command:
###
###   cd BioNet.buildbin-libdir/BioNet && zip -r ../../BioNet_1.24.1.zip . & cd ../..
###
##############################################################################
##############################################################################
  adding: CITATION (188 bytes security) (deflated 59%)
  adding: data/ (256 bytes security) (stored 0%)
  adding: data/pvaluesExample.rda (188 bytes security) (deflated 0%)
  adding: DESCRIPTION (188 bytes security) (deflated 47%)
  adding: doc/ (256 bytes security) (stored 0%)
  adding: doc/index.html (188 bytes security) (deflated 57%)
  adding: doc/Tutorial.pdf (188 bytes security) (deflated 12%)
  adding: doc/Tutorial.R (188 bytes security) (deflated 83%)
  adding: doc/Tutorial.Rnw (188 bytes security) (deflated 69%)
  adding: extdata/ (256 bytes security) (stored 0%)
  adding: extdata/ALL_cons_n.txt.0.hnz (188 bytes security) (deflated 63%)
  adding: extdata/ALL_edges_001.txt.0.hnz (188 bytes security) (deflated 81%)
  adding: extdata/ALL_nodes_001.txt.0.hnz (188 bytes security) (deflated 63%)
  adding: extdata/ALL_n_resample.txt.0.hnz (188 bytes security) (deflated 96%)
  adding: extdata/cytoscape.sif (188 bytes security) (deflated 68%)
  adding: extdata/lymphoma_edges_001.txt.0.hnz (188 bytes security) (deflated 83%)
  adding: extdata/lymphoma_nodes_001.txt.0.hnz (188 bytes security) (deflated 73%)
  adding: extdata/n.weight.NA (188 bytes security) (deflated 44%)
  adding: extdata/weight.EA (188 bytes security) (deflated 68%)
  adding: help/ (256 bytes security) (stored 0%)
  adding: help/aliases.rds (188 bytes security) (stored 0%)
  adding: help/AnIndex (188 bytes security) (deflated 64%)
  adding: help/BioNet.rdb (188 bytes security) (deflated 2%)
  adding: help/BioNet.rdx (188 bytes security) (stored 0%)
  adding: help/paths.rds (188 bytes security) (stored 0%)
  adding: html/ (256 bytes security) (stored 0%)
  adding: html/00Index.html (188 bytes security) (deflated 74%)
  adding: html/R.css (188 bytes security) (deflated 70%)
  adding: INDEX (188 bytes security) (deflated 63%)
  adding: MD5 (188 bytes security) (deflated 44%)
  adding: Meta/ (256 bytes security) (stored 0%)
  adding: Meta/data.rds (188 bytes security) (stored 0%)
  adding: Meta/hsearch.rds (188 bytes security) (stored 0%)
  adding: Meta/links.rds (188 bytes security) (stored 0%)
  adding: Meta/nsInfo.rds (188 bytes security) (stored 0%)
  adding: Meta/package.rds (188 bytes security) (stored 0%)
  adding: Meta/Rd.rds (188 bytes security) (stored 0%)
  adding: Meta/vignette.rds (188 bytes security) (stored 0%)
  adding: NAMESPACE (188 bytes security) (deflated 54%)
  adding: R/ (256 bytes security) (stored 0%)
  adding: R/BioNet (188 bytes security) (deflated 41%)
  adding: R/BioNet.rdb (188 bytes security) (deflated 2%)
  adding: R/BioNet.rdx (188 bytes security) (stored 0%)