| Back to the "Multiple platform build/check report" | [A] B C D E F G H I J K L M N O P Q R S T U V W X Y Z |
This page was generated on 2014-03-18 09:50:41 -0700 (Tue, 18 Mar 2014).
| Package 29/785 | Hostname | OS / Arch | BUILD | CHECK | BUILD BIN | ||||
| Agi4x44PreProcess 1.23.1 Pedro Lopez-Romero
| zin2 | Linux (Ubuntu 12.04.4 LTS) / x86_64 | OK | ERROR | |||||
| moscato2 | Windows Server 2008 R2 Enterprise SP1 (64-bit) / x64 | OK | ERROR | [ OK ] | |||||
| petty | Mac OS X Snow Leopard (10.6.8) / x86_64 | OK | ERROR | OK |
| Package: Agi4x44PreProcess |
| Version: 1.23.1 |
| Command: cd Agi4x44PreProcess.Rcheck/Agi4x44PreProcess && zip -r ../../Agi4x44PreProcess_1.23.1.zip . & cd ../.. |
| StartedAt: 2014-03-18 08:32:31 -0700 (Tue, 18 Mar 2014) |
| EndedAt: 2014-03-18 08:32:46 -0700 (Tue, 18 Mar 2014) |
| EllapsedTime: 15.4 seconds |
| RetCode: 0 |
| Status: OK |
| PackageFile: Agi4x44PreProcess_1.23.1.zip |
| PackageFileSize: 1.225 MiB |
The system cannot find the path specified.