| Back to the "Multiple platform build/check report" | 
This page was generated on 2014-04-04 17:29:02 -0700 (Fri, 04 Apr 2014).
| Package 179/181 | Hostname | OS / Arch | BUILD | CHECK | BUILD BIN | ||||
| yeastNagalakshmi 0.99.7 Bioconductor Package Maintainer 
 | zin1 | Linux (Ubuntu 12.04.4 LTS) / x86_64 | OK | OK | |||||
| moscato1 | Windows Server 2008 R2 Enterprise SP1 (64-bit) / x64 | [ OK ] | OK | OK | |||||
| perceval | Mac OS X Snow Leopard (10.6.8) / x86_64 | OK | OK | OK | 
| Package: yeastNagalakshmi | 
| Version: 0.99.7 | 
| Command: chmod a+r yeastNagalakshmi -R && D:\biocbld\bbs-2.13-bioc\R\bin\R.exe CMD build --keep-empty-dirs --no-resave-data yeastNagalakshmi | 
| StartedAt: 2014-04-04 10:14:16 -0700 (Fri, 04 Apr 2014) | 
| EndedAt: 2014-04-04 10:14:28 -0700 (Fri, 04 Apr 2014) | 
| EllapsedTime: 12.5 seconds | 
| RetCode: 0 | 
| Status: OK | 
| PackageFile: yeastNagalakshmi_0.99.7.tar.gz | 
| PackageFileSize: 14.33 MiB | 
* checking for file 'yeastNagalakshmi/DESCRIPTION' ... OK * preparing 'yeastNagalakshmi': * checking DESCRIPTION meta-information ... OK * checking for LF line-endings in source and make files * checking for empty or unneeded directories * building 'yeastNagalakshmi_0.99.7.tar.gz'