| faahKO 1.2.16 Colin A. Smith
 
 | Snapshot Date: 2014-04-04 06:15:32 -0700 (Fri, 04 Apr 2014) |  | URL: https://hedgehog.fhcrc.org/bioc-data/branches/RELEASE_2_13/experiment/pkgs/faahKO |  | Last Changed Rev: 2533 / Revision: 2768 |  | Last Changed Date: 2013-10-14 15:00:20 -0700 (Mon, 14 Oct 2013) | 
 | zin1 | Linux (Ubuntu 12.04.4 LTS) / x86_64 | OK | WARNINGS |  | 
| moscato1 | Windows Server 2008 R2 Enterprise SP1 (64-bit) / x64 | OK | WARNINGS | [ OK ] | 
| perceval | Mac OS X Snow Leopard (10.6.8) / x86_64 | OK | WARNINGS | OK | 
  adding: a_metabolite.txt (188 bytes security) (deflated 82%)
  adding: cdf/ (256 bytes security) (stored 0%)
  adding: cdf/KO/ (256 bytes security) (stored 0%)
  adding: cdf/KO/ko15.CDF (188 bytes security) (deflated 62%)
  adding: cdf/KO/ko16.CDF (188 bytes security) (deflated 62%)
  adding: cdf/KO/ko18.CDF (188 bytes security) (deflated 62%)
  adding: cdf/KO/ko19.CDF (188 bytes security) (deflated 62%)
  adding: cdf/KO/ko21.CDF (188 bytes security) (deflated 62%)
  adding: cdf/KO/ko22.CDF (188 bytes security) (deflated 63%)
  adding: cdf/WT/ (256 bytes security) (stored 0%)
  adding: cdf/WT/wt15.CDF (188 bytes security) (deflated 62%)
  adding: cdf/WT/wt16.CDF (188 bytes security) (deflated 62%)
  adding: cdf/WT/wt18.CDF (188 bytes security) (deflated 62%)
  adding: cdf/WT/wt19.CDF (188 bytes security) (deflated 62%)
  adding: cdf/WT/wt21.CDF (188 bytes security) (deflated 62%)
  adding: cdf/WT/wt22.CDF (188 bytes security) (deflated 63%)
  adding: data/ (256 bytes security) (stored 0%)
  adding: data/faahko.rda (188 bytes security) (deflated 3%)
  adding: DESCRIPTION (188 bytes security) (deflated 32%)
  adding: help/ (256 bytes security) (stored 0%)
  adding: help/aliases.rds (188 bytes security) (stored 0%)
  adding: help/AnIndex (188 bytes security) (deflated 37%)
  adding: help/faahKO.rdb (188 bytes security) (stored 0%)
  adding: help/faahKO.rdx (188 bytes security) (stored 0%)
  adding: help/paths.rds (188 bytes security) (stored 0%)
  adding: html/ (256 bytes security) (stored 0%)
  adding: html/00Index.html (188 bytes security) (deflated 53%)
  adding: html/R.css (188 bytes security) (deflated 70%)
  adding: INDEX (188 bytes security) (deflated 24%)
  adding: i_Investigation.txt (188 bytes security) (deflated 63%)
  adding: MD5 (188 bytes security) (deflated 43%)
  adding: Meta/ (256 bytes security) (stored 0%)
  adding: Meta/data.rds (188 bytes security) (stored 0%)
  adding: Meta/hsearch.rds (188 bytes security) (stored 0%)
  adding: Meta/links.rds (188 bytes security) (stored 0%)
  adding: Meta/nsInfo.rds (188 bytes security) (stored 0%)
  adding: Meta/package.rds (188 bytes security) (stored 0%)
  adding: Meta/Rd.rds (188 bytes security) (stored 0%)
  adding: NAMESPACE (188 bytes security) (stored 0%)
  adding: R/ (256 bytes security) (stored 0%)
  adding: R/faahKO (188 bytes security) (deflated 41%)
  adding: R/faahKO.rdb (188 bytes security) (deflated 3%)
  adding: R/faahKO.rdx (188 bytes security) (stored 0%)
  adding: s_Proteomic profiling of yeast TFs.txt (188 bytes security) (deflated 80%)