prada 1.38.0 Florian Hahne
 | Snapshot Date: 2014-04-04 16:20:29 -0700 (Fri, 04 Apr 2014) |  | URL: https://hedgehog.fhcrc.org/bioconductor/branches/RELEASE_2_13/madman/Rpacks/prada |  | Last Changed Rev: 81642 / Revision: 88450 |  | Last Changed Date: 2013-10-14 14:29:21 -0700 (Mon, 14 Oct 2013) |  
  | zin1  | Linux (Ubuntu 12.04.4 LTS) / x86_64  |  OK  |  OK  |  | 
| moscato1  | Windows Server 2008 R2 Enterprise SP1 (64-bit) / x64  |  OK  |  OK  | [ OK ] | 
| perceval  | Mac OS X Snow Leopard (10.6.8) / x86_64  |  OK  |  OK  |  OK  | 
  adding: data/ (256 bytes security) (stored 0%)
  adding: data/cframe.rda (188 bytes security) (stored 0%)
  adding: data/cset.rda (188 bytes security) (deflated 0%)
  adding: DESCRIPTION (188 bytes security) (deflated 44%)
  adding: doc/ (256 bytes security) (stored 0%)
  adding: doc/index.html (188 bytes security) (deflated 65%)
  adding: doc/norm2.pdf (188 bytes security) (deflated 7%)
  adding: doc/norm2.R (188 bytes security) (deflated 76%)
  adding: doc/norm2.Rnw (188 bytes security) (deflated 59%)
  adding: doc/prada2cellHTS.pdf (188 bytes security) (deflated 5%)
  adding: doc/prada2cellHTS.R (188 bytes security) (deflated 68%)
  adding: doc/prada2cellHTS.Rnw (188 bytes security) (deflated 53%)
  adding: extdata/ (256 bytes security) (stored 0%)
  adding: extdata/Description.txt (188 bytes security) (deflated 30%)
  adding: extdata/dorit13_2c-1-2--13-Ytrail=3143937171.xml (188 bytes security) (deflated 88%)
  adding: extdata/Experiment1.txt (188 bytes security) (deflated 72%)
  adding: extdata/Experiment2.txt (188 bytes security) (deflated 73%)
  adding: extdata/fas-Bcl2-plate323-04-04.A01 (188 bytes security) (deflated 41%)
  adding: extdata/fas-Bcl2-plate323-04-04.A02 (188 bytes security) (deflated 41%)
  adding: extdata/fas-Bcl2-plate323-04-04.A03 (188 bytes security) (deflated 42%)
  adding: extdata/fas-Bcl2-plate323-04-04.B01 (188 bytes security) (deflated 42%)
  adding: extdata/fas-Bcl2-plate323-04-04.B02 (188 bytes security) (deflated 41%)
  adding: extdata/fas-Bcl2-plate323-04-04.B03 (188 bytes security) (deflated 42%)
  adding: extdata/GeneIDs.txt (188 bytes security) (deflated 77%)
  adding: extdata/plate3_1.txt (188 bytes security) (deflated 75%)
  adding: extdata/plate3_2.txt (188 bytes security) (deflated 74%)
  adding: extdata/plate3_3.txt (188 bytes security) (deflated 74%)
  adding: extdata/plate4_1.txt (188 bytes security) (deflated 75%)
  adding: extdata/plate4_2.txt (188 bytes security) (deflated 74%)
  adding: extdata/plate4_3.txt (188 bytes security) (deflated 74%)
  adding: extdata/Plateconf.txt (188 bytes security) (deflated 73%)
  adding: extdata/Platelist.txt (188 bytes security) (deflated 35%)
  adding: extdata/sampleData.txt (188 bytes security) (deflated 46%)
  adding: extdata/Screenlog.txt (188 bytes security) (stored 0%)
  adding: help/ (256 bytes security) (stored 0%)
  adding: help/aliases.rds (188 bytes security) (stored 0%)
  adding: help/AnIndex (188 bytes security) (deflated 79%)
  adding: help/paths.rds (188 bytes security) (stored 0%)
  adding: help/prada.rdb (188 bytes security) (deflated 1%)
  adding: help/prada.rdx (188 bytes security) (stored 0%)
  adding: html/ (256 bytes security) (stored 0%)
  adding: html/00Index.html (188 bytes security) (deflated 88%)
  adding: html/R.css (188 bytes security) (deflated 70%)
  adding: INDEX (188 bytes security) (deflated 64%)
  adding: libs/ (256 bytes security) (stored 0%)
  adding: libs/i386/ (256 bytes security) (stored 0%)
  adding: libs/i386/prada.dll (188 bytes security) (deflated 58%)
  adding: libs/x64/ (256 bytes security) (stored 0%)
  adding: libs/x64/prada.dll (188 bytes security) (deflated 58%)
  adding: MD5 (188 bytes security) (deflated 47%)
  adding: Meta/ (256 bytes security) (stored 0%)
  adding: Meta/data.rds (188 bytes security) (stored 0%)
  adding: Meta/hsearch.rds (188 bytes security) (stored 0%)
  adding: Meta/links.rds (188 bytes security) (stored 0%)
  adding: Meta/nsInfo.rds (188 bytes security) (stored 0%)
  adding: Meta/package.rds (188 bytes security) (stored 0%)
  adding: Meta/Rd.rds (188 bytes security) (stored 0%)
  adding: Meta/vignette.rds (188 bytes security) (stored 0%)
  adding: NAMESPACE (188 bytes security) (deflated 60%)
  adding: R/ (256 bytes security) (stored 0%)
  adding: R/prada (188 bytes security) (deflated 41%)
  adding: R/prada.rdb (188 bytes security) (deflated 29%)
  adding: R/prada.rdx (188 bytes security) (deflated 2%)