lumi 2.14.2 Pan Du
 | Snapshot Date: 2014-04-04 16:20:29 -0700 (Fri, 04 Apr 2014) |  | URL: https://hedgehog.fhcrc.org/bioconductor/branches/RELEASE_2_13/madman/Rpacks/lumi |  | Last Changed Rev: 86895 / Revision: 88450 |  | Last Changed Date: 2014-02-27 13:29:08 -0800 (Thu, 27 Feb 2014) |  
  | zin1  | Linux (Ubuntu 12.04.4 LTS) / x86_64  |  OK  |  WARNINGS  |  | 
| moscato1  | Windows Server 2008 R2 Enterprise SP1 (64-bit) / x64  |  OK  |  WARNINGS  |  OK  | 
| perceval  | Mac OS X Snow Leopard (10.6.8) / x86_64  |  OK  |  WARNINGS  | [ OK ] | 
>>>>>>> 
>>>>>>> INSTALLATION WITH 'R CMD INSTALL --preclean --no-multiarch --library=lumi.buildbin-libdir lumi_2.14.2.tar.gz'
>>>>>>> 
* installing *source* package ‘lumi’ ...
** R
** data
** inst
** preparing package for lazy loading
Warning: replacing previous import by ‘graphics::image’ when loading ‘methylumi’
Warning: replacing previous import by ‘nleqslv::nleqslv’ when loading ‘lumi’
** help
*** installing help indices
** building package indices
** installing vignettes
** testing if installed package can be loaded
Warning: replacing previous import by ‘graphics::image’ when loading ‘methylumi’
Warning: replacing previous import by ‘nleqslv::nleqslv’ when loading ‘lumi’
* DONE (lumi)