| Back to the "Multiple platform build/check report" | A B C D E [F] G H I J K L M N O P Q R S T U V W X Y Z | 
This page was generated on 2014-04-05 09:47:24 -0700 (Sat, 05 Apr 2014).
| Package 264/750 | Hostname | OS / Arch | BUILD | CHECK | BUILD BIN | ||||
| flowUtils 1.22.0 Nishant Gopalakrishnan 
  | zin1 | Linux (Ubuntu 12.04.4 LTS) / x86_64 | [ OK ] | OK | |||||
| moscato1 | Windows Server 2008 R2 Enterprise SP1 (64-bit) / x64 | OK | OK | OK | |||||
| perceval | Mac OS X Snow Leopard (10.6.8) / x86_64 | OK | OK | OK | 
| Package: flowUtils | 
| Version: 1.22.0 | 
| Command: /home/biocbuild/bbs-2.13-bioc/R/bin/R CMD build --keep-empty-dirs --no-resave-data flowUtils | 
| StartedAt: 2014-04-04 20:46:11 -0700 (Fri, 04 Apr 2014) | 
| EndedAt: 2014-04-04 20:46:11 -0700 (Fri, 04 Apr 2014) | 
| EllapsedTime: 0.8 seconds | 
| RetCode: 0 | 
| Status: OK | 
| PackageFile: flowUtils_1.22.0.tar.gz | 
| PackageFileSize: 26.57 KiB | 
* checking for file ‘flowUtils/DESCRIPTION’ ... OK * preparing ‘flowUtils’: * checking DESCRIPTION meta-information ... OK * checking for LF line-endings in source and make files * checking for empty or unneeded directories * building ‘flowUtils_1.22.0.tar.gz’