codelink 1.30.9 Diego Diez
 | Snapshot Date: 2014-04-04 16:20:29 -0700 (Fri, 04 Apr 2014) |  | URL: https://hedgehog.fhcrc.org/bioconductor/branches/RELEASE_2_13/madman/Rpacks/codelink |  | Last Changed Rev: 82921 / Revision: 88450 |  | Last Changed Date: 2013-11-04 20:51:27 -0800 (Mon, 04 Nov 2013) |  
  | zin1  | Linux (Ubuntu 12.04.4 LTS) / x86_64  |  OK  |  OK  |  | 
| moscato1  | Windows Server 2008 R2 Enterprise SP1 (64-bit) / x64  |  OK  |  OK  |  OK  | 
| perceval  | Mac OS X Snow Leopard (10.6.8) / x86_64  |  OK  |  OK  | [ OK ] | 
>>>>>>> 
>>>>>>> INSTALLATION WITH 'R CMD INSTALL --preclean --no-multiarch --library=codelink.buildbin-libdir codelink_1.30.9.tar.gz'
>>>>>>> 
* installing *source* package ‘codelink’ ...
** R
** data
** inst
** byte-compile and prepare package for lazy loading
in method for ‘createWeights’ with signature ‘"CodelinkSet"’: no definition for class “CodelinkSet”
in method for ‘createFlagWeights’ with signature ‘"CodelinkSet"’: no definition for class “CodelinkSet”
in method for ‘createTypeWeights’ with signature ‘"CodelinkSet"’: no definition for class “CodelinkSet”
Creating a generic function for ‘summary’ from package ‘base’ in package ‘codelink’
** help
*** installing help indices
** building package indices
** installing vignettes
** testing if installed package can be loaded
* DONE (codelink)