Rsubread 1.12.6 Wei Shi
 | Snapshot Date: 2014-04-04 16:20:29 -0700 (Fri, 04 Apr 2014) |  | URL: https://hedgehog.fhcrc.org/bioconductor/branches/RELEASE_2_13/madman/Rpacks/Rsubread |  | Last Changed Rev: 84836 / Revision: 88450 |  | Last Changed Date: 2013-12-17 21:38:56 -0800 (Tue, 17 Dec 2013) |  
  | zin1  | Linux (Ubuntu 12.04.4 LTS) / x86_64  |  OK  |  OK  |  | 
| moscato1  | Windows Server 2008 R2 Enterprise SP1 (64-bit) / x64  | N O T   S U P P O R T E D | 
| perceval  | Mac OS X Snow Leopard (10.6.8) / x86_64  | [ OK ] |  OK  |  OK  | 
* checking for file ‘Rsubread/DESCRIPTION’ ... OK
* preparing ‘Rsubread’:
* checking DESCRIPTION meta-information ... OK
* cleaning src
* installing the package to build vignettes
* creating vignettes ... OK
* cleaning src
* checking for LF line-endings in source and make files
* checking for empty or unneeded directories
* building ‘Rsubread_1.12.6.tar.gz’