RWebServices 1.26.0 Martin Morgan
 | Snapshot Date: 2014-04-04 16:20:29 -0700 (Fri, 04 Apr 2014) |  | URL: https://hedgehog.fhcrc.org/bioconductor/branches/RELEASE_2_13/madman/Rpacks/RWebServices |  | Last Changed Rev: 81642 / Revision: 88450 |  | Last Changed Date: 2013-10-14 14:29:21 -0700 (Mon, 14 Oct 2013) |  
  | zin1  | Linux (Ubuntu 12.04.4 LTS) / x86_64  | [ OK ] |  OK  |  | 
| moscato1  | Windows Server 2008 R2 Enterprise SP1 (64-bit) / x64  | N O T   S U P P O R T E D | 
| perceval  | Mac OS X Snow Leopard (10.6.8) / x86_64  | N O T   S U P P O R T E D | 
* checking for file ‘RWebServices/DESCRIPTION’ ... OK
* preparing ‘RWebServices’:
* checking DESCRIPTION meta-information ... OK
* cleaning src
* running ‘cleanup’
* installing the package to build vignettes
* creating vignettes ... OK
* cleaning src
* running ‘cleanup’
* checking for LF line-endings in source and make files
* checking for empty or unneeded directories
WARNING: directory ‘RWebServices/inst/cagrid/schemas’ is empty
* building ‘RWebServices_1.26.0.tar.gz’
Warning in utils::tar(filepath, pkgname, compression = "gzip", compression_level = 9L,  :
  storing paths of more than 100 bytes is not portable:
  ‘RWebServices/inst/unitTests/java/src/org/bioconductor/packages/rservices/Rinput/ClassUnionConverter.R’
Warning in utils::tar(filepath, pkgname, compression = "gzip", compression_level = 9L,  :
  storing paths of more than 100 bytes is not portable:
  ‘RWebServices/inst/unitTests/java/src/org/bioconductor/packages/rservices/testdata/MyUnionFactory.java’
Warning in utils::tar(filepath, pkgname, compression = "gzip", compression_level = 9L,  :
  storing paths of more than 100 bytes is not portable:
  ‘RWebServices/inst/unitTests/java/src/org/bioconductor/packages/rservices/testdata/MyUnionRCharFactory.java’
Warning in utils::tar(filepath, pkgname, compression = "gzip", compression_level = 9L,  :
  storing paths of more than 100 bytes is not portable:
  ‘RWebServices/inst/unitTests/java/src/org/bioconductor/packages/rservices/testdata/MyUnionRLogicalFactory.java’