MSnbase 1.10.4 Laurent Gatto
 | Snapshot Date: 2014-04-04 16:20:29 -0700 (Fri, 04 Apr 2014) |  | URL: https://hedgehog.fhcrc.org/bioconductor/branches/RELEASE_2_13/madman/Rpacks/MSnbase |  | Last Changed Rev: 87955 / Revision: 88450 |  | Last Changed Date: 2014-03-26 11:52:12 -0700 (Wed, 26 Mar 2014) |  
  | zin1  | Linux (Ubuntu 12.04.4 LTS) / x86_64  |  OK  |  OK  |  | 
| moscato1  | Windows Server 2008 R2 Enterprise SP1 (64-bit) / x64  |  OK  |  OK  | [ OK ] | 
| perceval  | Mac OS X Snow Leopard (10.6.8) / x86_64  |  OK  |  OK  |  OK  | 
  adding: CITATION (188 bytes security) (deflated 55%)
  adding: data/ (256 bytes security) (stored 0%)
  adding: data/Rdata.rdb (188 bytes security) (deflated 0%)
  adding: data/Rdata.rds (188 bytes security) (stored 0%)
  adding: data/Rdata.rdx (188 bytes security) (stored 0%)
  adding: DESCRIPTION (188 bytes security) (deflated 45%)
  adding: doc/ (256 bytes security) (stored 0%)
  adding: doc/index.html (188 bytes security) (deflated 74%)
  adding: doc/MSnbase-demo/ (256 bytes security) (stored 0%)
  adding: doc/MSnbase-demo.pdf (188 bytes security) (deflated 14%)
  adding: doc/MSnbase-demo.R (188 bytes security) (deflated 73%)
  adding: doc/MSnbase-demo.Rnw (188 bytes security) (deflated 68%)
  adding: doc/MSnbase-development/ (256 bytes security) (stored 0%)
  adding: doc/MSnbase-development.pdf (188 bytes security) (deflated 13%)
  adding: doc/MSnbase-development.R (188 bytes security) (deflated 75%)
  adding: doc/MSnbase-development.Rnw (188 bytes security) (deflated 68%)
  adding: doc/MSnbase-io/ (256 bytes security) (stored 0%)
  adding: doc/MSnbase-io.pdf (188 bytes security) (deflated 11%)
  adding: doc/MSnbase-io.R (188 bytes security) (deflated 70%)
  adding: doc/MSnbase-io.Rnw (188 bytes security) (deflated 68%)
  adding: doc/MSnbase.bib (188 bytes security) (deflated 62%)
  adding: extdata/ (256 bytes security) (stored 0%)
  adding: extdata/dummyiTRAQ.mzXML (188 bytes security) (deflated 68%)
  adding: extdata/iTRAQ4plexPurityCorrections.csv (188 bytes security) (deflated 35%)
  adding: extdata/msx.rda (188 bytes security) (deflated 0%)
  adding: extdata/test.mgf (188 bytes security) (deflated 49%)
  adding: extdata/TMT6plexPurityCorrections.csv (188 bytes security) (deflated 46%)
  adding: help/ (256 bytes security) (stored 0%)
  adding: help/aliases.rds (188 bytes security) (stored 0%)
  adding: help/AnIndex (188 bytes security) (deflated 84%)
  adding: help/MSnbase.rdb (188 bytes security) (deflated 1%)
  adding: help/MSnbase.rdx (188 bytes security) (stored 0%)
  adding: help/paths.rds (188 bytes security) (stored 0%)
  adding: html/ (256 bytes security) (stored 0%)
  adding: html/00Index.html (188 bytes security) (deflated 91%)
  adding: html/R.css (188 bytes security) (deflated 70%)
  adding: INDEX (188 bytes security) (deflated 66%)
  adding: MD5 (188 bytes security) (deflated 46%)
  adding: Meta/ (256 bytes security) (stored 0%)
  adding: Meta/data.rds (188 bytes security) (stored 0%)
  adding: Meta/hsearch.rds (188 bytes security) (stored 0%)
  adding: Meta/links.rds (188 bytes security) (stored 0%)
  adding: Meta/nsInfo.rds (188 bytes security) (stored 0%)
  adding: Meta/package.rds (188 bytes security) (stored 0%)
  adding: Meta/Rd.rds (188 bytes security) (stored 0%)
  adding: Meta/vignette.rds (188 bytes security) (stored 0%)
  adding: NAMESPACE (188 bytes security) (deflated 68%)
  adding: NEWS (188 bytes security) (deflated 71%)
  adding: R/ (256 bytes security) (stored 0%)
  adding: R/MSnbase (188 bytes security) (deflated 41%)
  adding: R/MSnbase.rdb (188 bytes security) (deflated 33%)
  adding: R/MSnbase.rdx (188 bytes security) (deflated 5%)
  adding: scripts/ (256 bytes security) (stored 0%)
  adding: scripts/msnbase.r (188 bytes security) (deflated 63%)
  adding: tests/ (256 bytes security) (stored 0%)
  adding: tests/dont_test_plotMzDelata.R (188 bytes security) (deflated 60%)
  adding: tests/test_cache.R (188 bytes security) (deflated 50%)
  adding: tests/test_filterNA.R (188 bytes security) (deflated 63%)
  adding: tests/test_io.R (188 bytes security) (deflated 59%)
  adding: tests/test_MIAPE.R (188 bytes security) (deflated 17%)
  adding: tests/test_MSnExp.R (188 bytes security) (deflated 72%)
  adding: tests/test_MSnProcess.R (188 bytes security) (deflated 31%)
  adding: tests/test_MSnSet.R (188 bytes security) (deflated 73%)
  adding: tests/test_ReportersIons.R (188 bytes security) (deflated 61%)
  adding: tests/test_Spectrum.R (188 bytes security) (deflated 74%)
  adding: tests/test_topN.R (188 bytes security) (deflated 71%)