EasyqpcR 1.5.0 Le Pape Sylvain
 | Snapshot Date: 2014-04-04 16:20:29 -0700 (Fri, 04 Apr 2014) |  | URL: https://hedgehog.fhcrc.org/bioconductor/branches/RELEASE_2_13/madman/Rpacks/EasyqpcR |  | Last Changed Rev: 83595 / Revision: 88450 |  | Last Changed Date: 2013-11-24 13:50:24 -0800 (Sun, 24 Nov 2013) |  
  | zin1  | Linux (Ubuntu 12.04.4 LTS) / x86_64  |  OK  |  OK  |  | 
| moscato1  | Windows Server 2008 R2 Enterprise SP1 (64-bit) / x64  |  OK  |  OK  | [ OK ] | 
| perceval  | Mac OS X Snow Leopard (10.6.8) / x86_64  |  OK  |  OK  |  OK  | 
Scanning files 
  adding: CITATION (188 bytes security) (deflated 53%)
  adding: data/ (256 bytes security) (stored 0%)
  adding: data/Efficiency_calculation.rda (188 bytes security) (stored 0%)
  adding: data/Gene_maximisation.csv.gz (188 bytes security) (stored 0%)
  adding: data/Gene_maximisation.rda (188 bytes security) (stored 0%)
  adding: data/Gene_maximisation_cor.csv.gz (188 bytes security) (stored 0%)
  adding: data/Gene_maximisation_cor.rda (188 bytes security) (stored 0%)
  adding: data/qPCR_run1.csv.gz (188 bytes security) (stored 0%)
  adding: data/qPCR_run1.rda (188 bytes security) (stored 0%)
  adding: data/qPCR_run2.rda (188 bytes security) (stored 0%)
  adding: data/qPCR_run3.rda (188 bytes security) (stored 0%)
  adding: DESCRIPTION (188 bytes security) (deflated 42%)
  adding: doc/ (256 bytes security) (stored 0%)
  adding: doc/index.html (188 bytes security) (deflated 58%)
  adding: doc/vignette_EasyqpcR.pdf (188 bytes security) (deflated 8%)
  adding: doc/vignette_EasyqpcR.R (188 bytes security) (deflated 86%)
  adding: doc/vignette_EasyqpcR.Rnw (188 bytes security) (deflated 73%)
  adding: extdata/ (256 bytes security) (stored 0%)
  adding: extdata/Gene_maximisation.csv (188 bytes security) (deflated 53%)
  adding: extdata/Gene_maximisation_cor.csv (188 bytes security) (deflated 53%)
  adding: extdata/qPCR_run1.csv (188 bytes security) (deflated 61%)
  adding: help/ (256 bytes security) (stored 0%)
  adding: help/aliases.rds (188 bytes security) (stored 0%)
  adding: help/AnIndex (188 bytes security) (deflated 56%)
  adding: help/EasyqpcR.rdb (188 bytes security) (deflated 3%)
  adding: help/EasyqpcR.rdx (188 bytes security) (stored 0%)
  adding: help/paths.rds (188 bytes security) (stored 0%)
  adding: html/ (256 bytes security) (stored 0%)
  adding: html/00Index.html (188 bytes security) (deflated 67%)
  adding: html/R.css (188 bytes security) (deflated 70%)
  adding: INDEX (188 bytes security) (deflated 64%)
  adding: MD5 (188 bytes security) (deflated 47%)
  adding: Meta/ (256 bytes security) (stored 0%)
  adding: Meta/data.rds (188 bytes security) (stored 0%)
  adding: Meta/hsearch.rds (188 bytes security) (stored 0%)
  adding: Meta/links.rds (188 bytes security) (stored 0%)
  adding: Meta/nsInfo.rds (188 bytes security) (stored 0%)
  adding: Meta/package.rds (188 bytes security) (stored 0%)
  adding: Meta/Rd.rds (188 bytes security) (stored 0%)
  adding: Meta/vignette.rds (188 bytes security) (stored 0%)
  adding: NAMESPACE (188 bytes security) (deflated 33%)
  adding: NEWS (188 bytes security) (deflated 51%)
  adding: R/ (256 bytes security) (stored 0%)
  adding: R/EasyqpcR (188 bytes security) (deflated 41%)
  adding: R/EasyqpcR.rdb (188 bytes security) (deflated 3%)
  adding: R/EasyqpcR.rdx (188 bytes security) (stored 0%)