ChemmineR 2.14.3 ChemmineR Team
 | Snapshot Date: 2014-04-04 16:20:29 -0700 (Fri, 04 Apr 2014) |  | URL: https://hedgehog.fhcrc.org/bioconductor/branches/RELEASE_2_13/madman/Rpacks/ChemmineR |  | Last Changed Rev: 87755 / Revision: 88450 |  | Last Changed Date: 2014-03-22 19:42:23 -0700 (Sat, 22 Mar 2014) |  
  | zin1  | Linux (Ubuntu 12.04.4 LTS) / x86_64  |  OK  |  OK  |  | 
| moscato1  | Windows Server 2008 R2 Enterprise SP1 (64-bit) / x64  |  OK  |  OK  | [ OK ] | 
| perceval  | Mac OS X Snow Leopard (10.6.8) / x86_64  |  OK  |  OK  |  OK  | 
Scanning files 
  adding: CITATION (188 bytes security) (deflated 45%)
  adding: data/ (256 bytes security) (stored 0%)
  adding: data/apfp.rda (188 bytes security) (deflated 1%)
  adding: data/apset.rda (188 bytes security) (deflated 2%)
  adding: data/atomprop.rda (188 bytes security) (stored 0%)
  adding: data/atomprop.txt (188 bytes security) (deflated 45%)
  adding: data/pubchemFPencoding.rda (188 bytes security) (deflated 17%)
  adding: data/sdfsample.rda (188 bytes security) (deflated 3%)
  adding: data/smisample.rda (188 bytes security) (stored 0%)
  adding: DESCRIPTION (188 bytes security) (deflated 42%)
  adding: doc/ (256 bytes security) (stored 0%)
  adding: doc/bibtex.bib (188 bytes security) (deflated 59%)
  adding: doc/ChemmineR.pdf (188 bytes security) (deflated 17%)
  adding: doc/ChemmineR.R (188 bytes security) (deflated 83%)
  adding: doc/ChemmineR.Rnw (188 bytes security) (deflated 73%)
  adding: doc/index.html (188 bytes security) (deflated 61%)
  adding: doc/test.db (188 bytes security) (deflated 84%)
  adding: help/ (256 bytes security) (stored 0%)
  adding: help/aliases.rds (188 bytes security) (stored 0%)
  adding: help/AnIndex (188 bytes security) (deflated 79%)
  adding: help/ChemmineR.rdb (188 bytes security) (deflated 2%)
  adding: help/ChemmineR.rdx (188 bytes security) (stored 0%)
  adding: help/paths.rds (188 bytes security) (stored 0%)
  adding: html/ (256 bytes security) (stored 0%)
  adding: html/00Index.html (188 bytes security) (deflated 86%)
  adding: html/R.css (188 bytes security) (deflated 70%)
  adding: INDEX (188 bytes security) (deflated 68%)
  adding: libs/ (256 bytes security) (stored 0%)
  adding: libs/i386/ (256 bytes security) (stored 0%)
  adding: libs/i386/ChemmineR.dll (188 bytes security) (deflated 64%)
  adding: libs/x64/ (256 bytes security) (stored 0%)
  adding: libs/x64/ChemmineR.dll (188 bytes security) (deflated 69%)
  adding: MD5 (188 bytes security) (deflated 44%)
  adding: Meta/ (256 bytes security) (stored 0%)
  adding: Meta/data.rds (188 bytes security) (stored 0%)
  adding: Meta/hsearch.rds (188 bytes security) (deflated 1%)
  adding: Meta/links.rds (188 bytes security) (stored 0%)
  adding: Meta/nsInfo.rds (188 bytes security) (stored 0%)
  adding: Meta/package.rds (188 bytes security) (stored 0%)
  adding: Meta/Rd.rds (188 bytes security) (stored 0%)
  adding: Meta/vignette.rds (188 bytes security) (stored 0%)
  adding: NAMESPACE (188 bytes security) (deflated 60%)
  adding: NEWS.Rd (188 bytes security) (deflated 57%)
  adding: R/ (256 bytes security) (stored 0%)
  adding: R/ChemmineR (188 bytes security) (deflated 41%)
  adding: R/ChemmineR.rdb (188 bytes security) (deflated 23%)
  adding: R/ChemmineR.rdx (188 bytes security) (deflated 0%)
  adding: schema/ (256 bytes security) (stored 0%)
  adding: schema/compounds.RPostgreSQL (188 bytes security) (deflated 58%)
  adding: schema/compounds.SQLite (188 bytes security) (deflated 60%)
  adding: unitTests/ (256 bytes security) (stored 0%)
  adding: unitTests/test_clustering.R (188 bytes security) (deflated 53%)
  adding: unitTests/test_db.R (188 bytes security) (deflated 71%)
  adding: unitTests/test_general.R (188 bytes security) (deflated 55%)