BiocInstaller 1.12.0 Bioconductor Package Maintainer
 | Snapshot Date: 2014-04-04 16:20:29 -0700 (Fri, 04 Apr 2014) |  | URL: https://hedgehog.fhcrc.org/bioconductor/branches/RELEASE_2_13/madman/Rpacks/BiocInstaller |  | Last Changed Rev: 81642 / Revision: 88450 |  | Last Changed Date: 2013-10-14 14:29:21 -0700 (Mon, 14 Oct 2013) |  
  | zin1  | Linux (Ubuntu 12.04.4 LTS) / x86_64  |  OK  |  OK  |  | 
| moscato1  | Windows Server 2008 R2 Enterprise SP1 (64-bit) / x64  |  OK  |  OK  | [ OK ] | 
| perceval  | Mac OS X Snow Leopard (10.6.8) / x86_64  |  OK  |  OK  |  OK  | 
  adding: DESCRIPTION (188 bytes security) (deflated 39%)
  adding: help/ (256 bytes security) (stored 0%)
  adding: help/aliases.rds (188 bytes security) (stored 0%)
  adding: help/AnIndex (188 bytes security) (deflated 54%)
  adding: help/BiocInstaller.rdb (188 bytes security) (deflated 1%)
  adding: help/BiocInstaller.rdx (188 bytes security) (stored 0%)
  adding: help/paths.rds (188 bytes security) (stored 0%)
  adding: html/ (256 bytes security) (stored 0%)
  adding: html/00Index.html (188 bytes security) (deflated 68%)
  adding: html/R.css (188 bytes security) (deflated 70%)
  adding: INDEX (188 bytes security) (deflated 62%)
  adding: MD5 (188 bytes security) (deflated 41%)
  adding: Meta/ (256 bytes security) (stored 0%)
  adding: Meta/hsearch.rds (188 bytes security) (stored 0%)
  adding: Meta/links.rds (188 bytes security) (stored 0%)
  adding: Meta/nsInfo.rds (188 bytes security) (stored 0%)
  adding: Meta/package.rds (188 bytes security) (stored 0%)
  adding: Meta/Rd.rds (188 bytes security) (stored 0%)
  adding: NAMESPACE (188 bytes security) (deflated 26%)
  adding: NEWS (188 bytes security) (deflated 41%)
  adding: R/ (256 bytes security) (stored 0%)
  adding: R/BiocInstaller (188 bytes security) (deflated 41%)
  adding: R/BiocInstaller.rdb (188 bytes security) (deflated 7%)
  adding: R/BiocInstaller.rdx (188 bytes security) (stored 0%)
  adding: scripts/ (256 bytes security) (stored 0%)
  adding: scripts/biocLite.R (188 bytes security) (deflated 67%)
  adding: unitTests/ (256 bytes security) (stored 0%)
  adding: unitTests/test_biocinstallRepos.R (188 bytes security) (deflated 57%)
  adding: unitTests/test_BiocUpgrade.R (188 bytes security) (deflated 66%)