| Back to the "Multiple platform build/check report" | A [B] C D E F G H I J K L M N O P Q R S T U V W X Y Z | 
This page was generated on 2014-04-05 09:49:36 -0700 (Sat, 05 Apr 2014).
| Package 78/750 | Hostname | OS / Arch | BUILD | CHECK | BUILD BIN | ||||
| BiocCaseStudies 1.24.0 Bioconductor Package Maintainer 
  | zin1 | Linux (Ubuntu 12.04.4 LTS) / x86_64 | OK | OK | |||||
| moscato1 | Windows Server 2008 R2 Enterprise SP1 (64-bit) / x64 | [ OK ] | OK | OK | |||||
| perceval | Mac OS X Snow Leopard (10.6.8) / x86_64 | OK | OK | OK | 
| Package: BiocCaseStudies | 
| Version: 1.24.0 | 
| Command: chmod a+r BiocCaseStudies -R && D:\biocbld\bbs-2.13-bioc\R\bin\R.exe CMD build --keep-empty-dirs --no-resave-data BiocCaseStudies | 
| StartedAt: 2014-04-05 00:08:35 -0700 (Sat, 05 Apr 2014) | 
| EndedAt: 2014-04-05 00:08:42 -0700 (Sat, 05 Apr 2014) | 
| EllapsedTime: 6.9 seconds | 
| RetCode: 0 | 
| Status: OK | 
| PackageFile: BiocCaseStudies_1.24.0.tar.gz | 
| PackageFileSize: 6.665 KiB | 
* checking for file 'BiocCaseStudies/DESCRIPTION' ... OK * preparing 'BiocCaseStudies': * checking DESCRIPTION meta-information ... OK * checking for LF line-endings in source and make files * checking for empty or unneeded directories * building 'BiocCaseStudies_1.24.0.tar.gz'