| hmyriB36 0.99.17 Vincent Carey
 
 | Snapshot Date: 2013-10-08 10:15:19 -0700 (Tue, 08 Oct 2013) |  | URL: https://hedgehog.fhcrc.org/bioc-data/trunk/experiment/pkgs/hmyriB36 |  | Last Changed Rev: 2493 / Revision: 2510 |  | Last Changed Date: 2013-10-04 19:25:18 -0700 (Fri, 04 Oct 2013) | 
 | george2 | Linux (Ubuntu 12.04.1 LTS) / x86_64 | OK | OK |  | 
| moscato2 | Windows Server 2008 R2 Enterprise SP1 (64-bit) / x64 | OK | [ OK ] | OK | 
| petty | Mac OS X Snow Leopard (10.6.8) / x86_64 | OK | OK | OK | 
* using log directory 'E:/biocbld/bbs-2.12-data-experiment/meat/hmyriB36.Rcheck'
* using R version 3.0.1 (2013-05-16)
* using platform: i386-w64-mingw32 (32-bit)
* using session charset: ISO8859-1
* using option '--no-vignettes'
* checking for file 'hmyriB36/DESCRIPTION' ... OK
* this is package 'hmyriB36' version '0.99.17'
* checking package namespace information ... OK
* checking package dependencies ... OK
* checking if this is a source package ... OK
* checking if there is a namespace ... OK
* checking for hidden files and directories ... OK
* checking for portable file names ... OK
* checking whether package 'hmyriB36' can be installed ... OK
* checking installed package size ... NOTE
  installed size is 79.8Mb
  sub-directories of 1Mb or more:
    data   21.1Mb
    parts  58.7Mb
* checking package directory ... OK
* checking DESCRIPTION meta-information ... OK
* checking top-level files ... OK
* checking for left-over files ... OK
* checking index information ... OK
* checking package subdirectories ... OK
* checking R files for non-ASCII characters ... OK
* checking R files for syntax errors ... OK
* loading checks for arch 'i386'
** checking whether the package can be loaded ... OK
** checking whether the package can be loaded with stated dependencies ... OK
** checking whether the package can be unloaded cleanly ... OK
** checking whether the namespace can be loaded with stated dependencies ... OK
** checking whether the namespace can be unloaded cleanly ... OK
* loading checks for arch 'x64'
** checking whether the package can be loaded ... OK
** checking whether the package can be loaded with stated dependencies ... OK
** checking whether the package can be unloaded cleanly ... OK
** checking whether the namespace can be loaded with stated dependencies ... OK
** checking whether the namespace can be unloaded cleanly ... OK
* checking for unstated dependencies in R code ... OK
* checking S3 generic/method consistency ... OK
* checking replacement functions ... OK
* checking foreign function calls ... OK
* checking R code for possible problems ... NOTE
File 'hmyriB36/R/zzz.R':
  .onLoad calls:
    packageStartupMessage(paste("To get a tailored smlSet, use getSS(\"",     pkgname, "\", [chrvec])", sep = ""))
    packageStartupMessage(paste("available chromosomes are named ",     paste(selectSome(cn), collapse = ", ")))
See section 'Good practice' in '?.onAttach'.
* checking Rd files ... OK
* checking Rd metadata ... OK
* checking Rd cross-references ... OK
* checking for missing documentation entries ... OK
* checking for code/documentation mismatches ... OK
* checking Rd \usage sections ... OK
* checking Rd contents ... OK
* checking for unstated dependencies in examples ... OK
* checking contents of 'data' directory ... OK
* checking data for non-ASCII characters ... OK
* checking data for ASCII and uncompressed saves ... OK
* checking examples ...
** running examples for arch 'i386' ... [43s] OK
Examples with CPU or elapsed time > 5s
              user system elapsed
hmyriB36-pkg 17.62   0.54   32.56
** running examples for arch 'x64' ... [33s] OK
Examples with CPU or elapsed time > 5s
             user system elapsed
hmyriB36-pkg   19   0.75   20.42
* checking PDF version of manual ... OK
NOTE: There were 2 notes.
See
  'E:/biocbld/bbs-2.12-data-experiment/meat/hmyriB36.Rcheck/00check.log'
for details.
 
install for i386
* installing *source* package 'hmyriB36' ...
** R
** data
** inst
** preparing package for lazy loading
** help
*** installing help indices
** building package indices
** testing if installed package can be loaded
install for x64
* installing *source* package 'hmyriB36' ...
** testing if installed package can be loaded
* MD5 sums
packaged installation of 'hmyriB36' as hmyriB36_0.99.17.zip
* DONE (hmyriB36)